BEGIN:VCALENDAR
VERSION:2.0
PRODID:-//ChamberMaster//Event Calendar 2.0//EN
METHOD:PUBLISH
X-PUBLISHED-TTL:P3D
REFRESH-INTERVAL:P3D
CALSCALE:GREGORIAN
BEGIN:VEVENT
DTSTART:20111104T140000Z
DTEND:20111104T230000Z
X-MICROSOFT-CDO-ALLDAYEVENT:FALSE
SUMMARY:100 Years\, 100 Prizes at MB Financial
DESCRIPTION:Join un for our 100th Anniversary One-Day Event\n\n	\n\n	100 YEARS 100 PRIZES\n\n	\n\n	Get in to Win!\n\n	Friday\, November 4th\, 2011\n\n	9am to 6pm\n\n	\n\n	 \n\n	Enjoy refreshments\, a small gift and the chance to win one of 100 prizes including an iPad2\, Xbox with Kinect console\, 22" Samsung LCD TV and more!*\n\n	\n\n	Visit us on Facebook on November 4th for a chance to win a $500 gift card!\n\n	www.facebook.com/mbfinancialbank\n\n	\n\n	Thank you for help us reach this business milestone.  It couldn't have happened without you.\n\n	\n\n	*See mb100years100prizes.com for available prizes and official raffle rules.
X-ALT-DESC;FMTTYPE=text/html:<p style="text-align: center">\n	<strong><span style="color: #b22222"><span style="font-size: 20px">Join un for our 100th Anniversary One-Day Event</span></span><br />\n	<br />\n	<span style="color: #ff0000"><span style="font-size: 24px">100 YEARS 100 PRIZES</span></span></strong><br />\n	<br />\n	<span style="color: #b22222"><strong><span style="font-size: 16px">Get in to Win!<br />\n	Friday\, November 4th\, 2011<br />\n	9am to 6pm</span></strong></span><br />\n	<br />\n	&nbsp\;</p>\n<p>\n	<span style="color: #000000"><span style="font-size: 14px">Enjoy refreshments\, a small gift and the chance to win one of 100 prizes including an iPad2\, Xbox with Kinect console\, 22&quot\; Samsung LCD TV and more!*<br />\n	<br />\n	Visit us on Facebook on November 4th for a chance to win a $500 gift card!<br />\n	www.facebook.com/mbfinancialbank<br />\n	<br />\n	Thank you for help us reach this business milestone.&nbsp\; It couldn&#39\;t have happened without you.</span><br />\n	<br />\n	<em>*See mb100years100prizes.com for available prizes and official raffle rules.</em></span></p>\n
LOCATION:MB Financial 4800 North Western Avenue
UID:e.697.2191
SEQUENCE:3
DTSTAMP:20260420T063426Z
URL:http://lincolnsquareravenswood.smartcms.site/events/details/100-years-100-prizes-at-mb-financial-2191
END:VEVENT

END:VCALENDAR
