BEGIN:VCALENDAR
VERSION:2.0
PRODID:-//ChamberMaster//Event Calendar 2.0//EN
METHOD:PUBLISH
X-PUBLISHED-TTL:P3D
REFRESH-INTERVAL:P3D
CALSCALE:GREGORIAN
BEGIN:VEVENT
DTSTART:20110911T150000Z
DTEND:20110911T190000Z
X-MICROSOFT-CDO-ALLDAYEVENT:FALSE
SUMMARY:114th Rally Day at Luther Memorial Church
DESCRIPTION:On September 11th\, 2011 Luther Memorial Church will kick off its 114th year of ministry here on the north side of Chicago. We'll begin by worshiping God at one 10am service\, where we will honor the memory of the 9-11 tragedy with prayers and a litany\, sing songs of praise\, commune together\, hear God's promise to us in Jesus Christ once again\, and then go play! As in previous years we will have the street blocked off from 11am-2pm to play games and have fun. This year's celebration will include many activities for the whole family including balloon animals\, a bounce house\, bags tournament\, a special drama for the children\, and much more.
X-ALT-DESC;FMTTYPE=text/html:On September 11th\, 2011 Luther Memorial Church will kick off its 114th year of ministry here on the north side of Chicago. We&rsquo\;ll begin by worshiping God at one 10am service\, where we will honor the memory of the 9-11 tragedy with prayers and a litany\, sing songs of praise\, commune together\, hear God&rsquo\;s promise to us in Jesus Christ once again\, and then go play! As in previous years we will have the street blocked off from 11am-2pm to play games and have fun. This year&rsquo\;s celebration will include many activities for the whole family including balloon animals\, a bounce house\, bags tournament\, a special drama for the children\, and much more.
LOCATION:Wilson and Campbell
UID:e.697.1682
SEQUENCE:3
DTSTAMP:20260420T094227Z
URL:http://lincolnsquareravenswood.smartcms.site/events/details/114th-rally-day-at-luther-memorial-church-1682
END:VEVENT

END:VCALENDAR
