BEGIN:VCALENDAR
VERSION:2.0
PRODID:-//ChamberMaster//Event Calendar 2.0//EN
METHOD:PUBLISH
X-PUBLISHED-TTL:P3D
REFRESH-INTERVAL:P3D
CALSCALE:GREGORIAN
BEGIN:VEVENT
DTSTART;VALUE=DATE:20120515
DTEND;VALUE=DATE:20120516
TRANSP:TRANSPARENT
X-MICROSOFT-CDO-ALLDAYEVENT:TRUE
SUMMARY:2 For Tuesday at Armand's Pizzeria
DESCRIPTION:STOP BY\, VISIT US ONLINE\, OR CALL US!\n\n	Every Tuesday Armand's Pizzeria runs a "2 FOR TUESDAY" special just for the Lincoln Square Community!\n\n	  Buy any pizza and get the 2nd one free of equal or lesser value.\n\n	\n\n	*This special is only available at the Western Avenue and Edison Park locations.\n\n	\n\n	CLICK HERE TO VIEW THE DEAL!
X-ALT-DESC;FMTTYPE=text/html:<p style="text-align: center">\n	<span style="font-size: 16px"><strong>STOP BY\, VISIT US ONLINE\, OR CALL US!</strong></span></p>\n<p style="text-align: center">\n	<strong><span style="color: #ff8c00"><span style="font-size: 16px">Every Tuesday Armand&#39\;s Pizzeria runs a &quot\;2 FOR TUESDAY&quot\; special just for the Lincoln Square Community!</span></span></strong></p>\n<p style="text-align: center">\n	<span _fck_bookmark="1" style="display: none">&nbsp\;</span><span _fck_bookmark="1" style="display: none">&nbsp\;</span><strong><span style="font-size: 14px">Buy any pizza and get the 2nd one free of equal or lesser value.</span></strong><br />\n	<br />\n	<em>*This special is only available at the Western Avenue and Edison Park locations.<a href="http://us1.campaign-archive2.com/?u=5a45e70868ab3d85561b8d7f4&amp\;id=492c08eff6&amp\;e"><br />\n	<br />\n	CLICK HERE TO VIEW THE DEAL!</a></em></p>\n
LOCATION:Armand's Pizzeria 4159 N. Western Avenue
UID:e.697.2591
SEQUENCE:3
DTSTAMP:20260419T201515Z
URL:http://lincolnsquareravenswood.smartcms.site/events/details/2-for-tuesday-at-armand-s-pizzeria-2591
END:VEVENT

END:VCALENDAR
