BEGIN:VCALENDAR
VERSION:2.0
PRODID:-//ChamberMaster//Event Calendar 2.0//EN
METHOD:PUBLISH
X-PUBLISHED-TTL:P3D
REFRESH-INTERVAL:P3D
CALSCALE:GREGORIAN
BEGIN:VEVENT
DTSTART:20120407T150000Z
DTEND:20120407T170000Z
X-MICROSOFT-CDO-ALLDAYEVENT:FALSE
SUMMARY:20th District Egg Hunt & Bake Sale
DESCRIPTION:20th District Egg Hunt and Bake Sale\n\nAges 0-8\n\nEaster Bags will be supplied-No baskets or outside bags will be allowed for collecting eggs.\n\nBake Sale will be held in the lobby-proceeds to sponsor youth activities.
X-ALT-DESC;FMTTYPE=text/html:20th District Egg Hunt and Bake Sale<br />\nAges 0-8<br />\nEaster Bags will be supplied-No baskets or outside bags will be allowed for collecting eggs.<br />\nBake Sale will be held in the lobby-proceeds to sponsor youth activities.
LOCATION:20th District Police Station 5400 N. Lincoln Ave.
UID:e.697.2540
SEQUENCE:3
DTSTAMP:20260419T215947Z
URL:http://lincolnsquareravenswood.smartcms.site/events/details/20th-districk-egg-hunt-bake-sale-2540
END:VEVENT

END:VCALENDAR
