BEGIN:VCALENDAR
VERSION:2.0
PRODID:-//ChamberMaster//Event Calendar 2.0//EN
METHOD:PUBLISH
X-PUBLISHED-TTL:P3D
REFRESH-INTERVAL:P3D
CALSCALE:GREGORIAN
BEGIN:VEVENT
DTSTART;VALUE=DATE:20111016
DTEND;VALUE=DATE:20111017
TRANSP:TRANSPARENT
X-MICROSOFT-CDO-ALLDAYEVENT:TRUE
SUMMARY:36th Anniversary party Gallimaufry Gallery
DESCRIPTION:Join us for Champagne and a 15% discount on October 16th as we celebrate 36 years in the business of selling American Crafts and International Fair Trade Items!  Discount is good on any day that you choose until October 31st.
X-ALT-DESC;FMTTYPE=text/html:Join us for Champagne and a 15% discount on October 16th as we celebrate 36 years in the business of selling American Crafts and International Fair Trade Items!&nbsp\; Discount is good on any day that you choose until October 31st.
LOCATION:
UID:e.697.2156
SEQUENCE:3
DTSTAMP:20260420T081729Z
URL:http://lincolnsquareravenswood.smartcms.site/events/details/36th-anniversary-party-gallimaufry-gallery-2156
END:VEVENT

END:VCALENDAR
