BEGIN:VCALENDAR
VERSION:2.0
PRODID:-//ChamberMaster//Event Calendar 2.0//EN
METHOD:PUBLISH
X-PUBLISHED-TTL:P3D
REFRESH-INTERVAL:P3D
CALSCALE:GREGORIAN
BEGIN:VEVENT
DTSTART:20120505T170000Z
DTEND:20120506T020000Z
X-MICROSOFT-CDO-ALLDAYEVENT:FALSE
SUMMARY:3rd Annual Chicago Inner Peace Festival
DESCRIPTION:WHEN:       May 5\, 2012\n\nWHERE:    Giddings Plaza\, Lincoln Square (4731 N. Lincoln Ave.\, Chicago)\n\n\n\nThe 3rd Annual Chicago Inner Peace Festival is once again bringing consciousness and peace to the city on May 5\, 2012. Building on the success of last year's festival\, this event is a major opportunity for Chicago to unify in one mind\, one heart and one love   it is our way of contributing to peace in the world. \n\n\n\nThis year's activities include:\n\n          Blessing & meditation tent to receive healing\n\n          Origami cranes\, arts & crafts for children\n\n          Peace affirmations for the city of Chicago\n\n \n\nhttp://www.innerpeacefestival.com/chicago/\n\n \n\n 12pm: Opening Ceremony\n\n1pm: Rich Logan & John Schwartz\, Kirtan\n\n2pm: Kenny Kolter\, Gong Meditation\n\n3pm: Peace Panel with Mother Clare Watts (Center of Light)\, Mother Maya Tiwari (Living Ahimsa)\, Merwyn De Mello (Chicago Peacemakers)\, Darrell Jones (Bodhi Spiritual Center)\n\n4:30pm: Kathleen Lahiff\, Harpist\n\n7:30pm: Ho Etsu Taiko Drumming\n\n8:00pm: Shine Your Light for Peace Parade: Bring your creative light (no fire\, please) to walk down Lincoln Square shining your Light for Peace!
X-ALT-DESC;FMTTYPE=text/html:<br />\n<strong><span style="border:none windowtext 1.0pt\;padding:0in\;"><span style="color:#1c1c1c\;"><span style="font-family:georgia\,serif\;">WHEN: &nbsp\; &nbsp\; &nbsp\; May 5\, 2012</span></span></span></strong><br />\n<strong style="border-style:initial\;border-color:initial\;outline-width:0px\;outline-style:initial\;outline-color:initial\;background-image:initial\;"><span style="border:none windowtext 1.0pt\;padding:0in\;"><span style="color:#1c1c1c\;"><span style="font-family:georgia\,serif\;">WHERE: &nbsp\; &nbsp\;Giddings Plaza\, Lincoln Square (4731 N. Lincoln Ave.\, Chicago)</span></span></span></strong><br />\n<br />\n<span style="color:#201f1f\;"><span style="font-family:georgia\,serif\;">The 3rd Annual Chicago Inner Peace Festival is once again bringing consciousness and peace to the city on&nbsp\;</span></span><strong style="border-style:initial\;border-color:initial\;outline-width:0px\;outline-style:initial\;outline-color:initial\;background-image:initial\;"><span style="border:none windowtext 1.0pt\;padding:0in\;"><span style="color:#1c1c1c\;"><span style="font-family:georgia\,serif\;">May 5\, 2012.</span></span></span></strong><span style="color:#201f1f\;"><span style="font-family:georgia\,serif\;">&nbsp\;Building on the success of last year&rsquo\;s festival\, this event is a major opportunity for Chicago to unify in one mind\, one heart and one love &mdash\; it is our way of contributing to peace in the world.&nbsp\;</span></span><br />\n<br />\n<span style="color:#201f1f\;"><span style="font-family:georgia\,serif\;">This year&rsquo\;s activities include:</span></span><br />\n<span style="color:#201f1f\;"><span style="font-family:symbol\;"><span style="font-size:10.0pt\;">&middot\;&nbsp\;&nbsp\;&nbsp\;&nbsp\;&nbsp\;&nbsp\;&nbsp\;&nbsp\; </span></span></span><span style="color:#201f1f\;"><span style="font-family:georgia\,serif\;">Blessing &amp\; meditation tent to receive healing</span></span><br />\n<span style="color:#201f1f\;"><span style="font-family:symbol\;"><span style="font-size:10.0pt\;">&middot\;&nbsp\;&nbsp\;&nbsp\;&nbsp\;&nbsp\;&nbsp\;&nbsp\;&nbsp\; </span></span></span><span style="color:#201f1f\;"><span style="font-family:georgia\,serif\;">Origami cranes\, arts &amp\; crafts for children</span></span><br />\n<span style="color:#201f1f\;"><span style="font-family:symbol\;"><span style="font-size:10.0pt\;">&middot\;&nbsp\;&nbsp\;&nbsp\;&nbsp\;&nbsp\;&nbsp\;&nbsp\;&nbsp\; </span></span></span><span style="color:#201f1f\;"><span style="font-family:georgia\,serif\;">Peace affirmations for the city of Chicago</span></span><br />\n&nbsp\;<br />\n<a href="http://www.innerpeacefestival.com/chicago/" target="_blank"><span style="font-family:georgia\,serif\;">http://www.innerpeacefestival.com/chicago/</span></a><br />\n&nbsp\;<br />\n<span style="color:#000000\;"> <span style="font-family: georgia\,serif\;">12pm: Opening Ceremony</span><br />\n<span style="font-family: georgia\,serif\;">1pm: Rich Logan &amp\; John Schwartz\, Kirtan</span><br />\n<span style="font-family: georgia\,serif\;">2pm: Kenny Kolter\, Gong Meditation</span><br />\n<span style="font-family: georgia\,serif\;">3pm: Peace Panel with Mother Clare Watts (Center of Light)\, Mother Maya Tiwari (Living Ahimsa)\, Merwyn De Mello (Chicago Peacemakers)\, Darrell Jones (Bodhi Spiritual Center)</span><br />\n<span style="font-family: georgia\,serif\;">4:30pm: Kathleen Lahiff\, Harpist</span><br />\n<span style="font-family: georgia\,serif\;">7:30pm: Ho Etsu Taiko Drumming</span><br />\n<span style="font-family: georgia\,serif\;">8:00pm: Shine Your Light for Peace Parade: Bring your creative light (no fire\, please) to walk down Lincoln Square shining your Light for Peace!</span></span>
LOCATION:Giddings Plaza 4731 N. Lincoln Avenue
UID:e.697.2554
SEQUENCE:3
DTSTAMP:20260419T200943Z
URL:http://lincolnsquareravenswood.smartcms.site/events/details/3rd-annual-chicago-inner-peace-festival-2554
END:VEVENT

END:VCALENDAR
