BEGIN:VCALENDAR
VERSION:2.0
PRODID:-//ChamberMaster//Event Calendar 2.0//EN
METHOD:PUBLISH
X-PUBLISHED-TTL:P3D
REFRESH-INTERVAL:P3D
CALSCALE:GREGORIAN
BEGIN:VEVENT
DTSTART:20120717T230000Z
DTEND:20120718T020000Z
X-MICROSOFT-CDO-ALLDAYEVENT:FALSE
SUMMARY:47th Ward Gardening Workshops
DESCRIPTION:The 47th Ward is offering a Gardening Workshop featuring expert and master gardeners from the neighborhood who will speak on Shade Gardening and Trees.
X-ALT-DESC;FMTTYPE=text/html:The 47th Ward is offering a Gardening Workshop featuring expert and master gardeners from the neighborhood who will speak on Shade Gardening and Trees. 
LOCATION:4243 N Lincoln Avenue
UID:e.697.3563
SEQUENCE:3
DTSTAMP:20260419T183420Z
URL:http://lincolnsquareravenswood.smartcms.site/events/details/47th-ward-gardening-workshops-3563
END:VEVENT

END:VCALENDAR
