BEGIN:VCALENDAR
VERSION:2.0
PRODID:-//ChamberMaster//Event Calendar 2.0//EN
METHOD:PUBLISH
X-PUBLISHED-TTL:P3D
REFRESH-INTERVAL:P3D
CALSCALE:GREGORIAN
BEGIN:VEVENT
DTSTART;VALUE=DATE:20110801
DTEND;VALUE=DATE:20110901
TRANSP:TRANSPARENT
X-MICROSOFT-CDO-ALLDAYEVENT:TRUE
SUMMARY:4th Anniversary Celebration at Provenance Food & Wine
DESCRIPTION:August 5 marks 4 years of business at the Lincoln Square location! It's certainly cause for celebration\, and who better to toast than our wonderful customers. If you don't already\, please "Like" us on Facebook. We'll be posting giveaways and specials on our Facebook page all month long. Check us out!
X-ALT-DESC;FMTTYPE=text/html:August 5 marks 4 years of business at the Lincoln Square location! It&#39\;s certainly cause for celebration\, and who better to toast than our wonderful customers. If you don&#39\;t already\, please &quot\;Like&quot\; us on Facebook. We&#39\;ll be posting giveaways and specials on our Facebook page all month long. Check us out!<br />\n
LOCATION:2312 W Leland
UID:e.697.1321
SEQUENCE:3
DTSTAMP:20260420T111626Z
URL:http://lincolnsquareravenswood.smartcms.site/events/details/4th-anniversary-celebration-at-provenance-food-wine-1321
END:VEVENT

END:VCALENDAR
