BEGIN:VCALENDAR
VERSION:2.0
PRODID:-//ChamberMaster//Event Calendar 2.0//EN
METHOD:PUBLISH
X-PUBLISHED-TTL:P3D
REFRESH-INTERVAL:P3D
CALSCALE:GREGORIAN
BEGIN:VEVENT
DTSTART:20100522T140000Z
DTEND:20100522T200000Z
X-MICROSOFT-CDO-ALLDAYEVENT:FALSE
SUMMARY:5th Annual Blood Drive @ Sacred Art
DESCRIPTION:Lifesource will be on hand with a coach bus to accommodate blood donors.  Appointments are recommended but walk in's are welcomed.  Please call us and sign up now and help save lives!\n\n\n\nIf we don't get enough people signed up in advance they cancel the event!!!!!
X-ALT-DESC;FMTTYPE=text/html:Lifesource will be on hand with a coach bus to accommodate blood donors.  Appointments are recommended but walk in's are welcomed.  Please call us and sign up now and help save lives!\n<br>\n<br>If we don't get enough people signed up in advance they cancel the event!!!!!
LOCATION:4619 North Lincoln Ave
UID:e.697.491
SEQUENCE:3
DTSTAMP:20260421T111451Z
URL:http://lincolnsquareravenswood.smartcms.site/events/details/5th-annual-blood-drive-sacred-art-491
END:VEVENT

END:VCALENDAR
