BEGIN:VCALENDAR
VERSION:2.0
PRODID:-//ChamberMaster//Event Calendar 2.0//EN
METHOD:PUBLISH
X-PUBLISHED-TTL:P3D
REFRESH-INTERVAL:P3D
CALSCALE:GREGORIAN
BEGIN:VEVENT
DTSTART:20110611T150000Z
DTEND:20110611T190000Z
X-MICROSOFT-CDO-ALLDAYEVENT:FALSE
SUMMARY:A jookie Pignic\, sponsored by Piggy Toes
DESCRIPTION:jookie was named after a guinea pig so we are especially excited to finally host a guinea pig event!\n\n\n\nSponsored by our wonderful business neighbor Piggy Toes (who have both Lincoln Square and Lincoln Park locations)\, please join us Saturday\, June 11th from 10 am to 2 pm as we host a "Pignic" with the help of our friend Olivia and her guinea pigs Blow Pop and Tootsie (featured above). Also helping us host the event is Alicia\, a terrific volunteer from Red Door Animal Shelter and Critter Corral ( a guinea pig rescue). She'll be bringing along her piggy trio of Fermi (the George Clooney of guinea pigs!)\, Agape and Tilli. Together\, Olivia and Alicia will be on hand to talk about their guinea pigs and let guests interact with them. Alicia\, who is also an animal communicator\, will be available to talk about guinea pig adoption as well.\n\n\n\nIf you already have a guinea pig\, please bring them along and have your photo taken together in our piggy photo booth! Seriously\, it's going to be pigtastic.\n\n\n\nhttp://www.jookiephoto.com/blog/2011/05/a-jookie-pignic-with-guest-volunteer-from-red-door-animal-shelter-sponsored-by-piggy-toes/
X-ALT-DESC;FMTTYPE=text/html:jookie was named after a guinea pig so we are especially excited to finally host a guinea pig event!<br />\n<br />\nSponsored by our wonderful business neighbor Piggy Toes (who have both Lincoln Square and Lincoln Park locations)\, please join us Saturday\, June 11th from 10 am to 2 pm as we host a &ldquo\;Pignic&rdquo\; with the help of our friend Olivia and her guinea pigs Blow Pop and Tootsie (featured above). Also helping us host the event is Alicia\, a terrific volunteer from Red Door Animal Shelter and Critter Corral ( a guinea pig rescue). She&rsquo\;ll be bringing along her piggy trio of Fermi (the George Clooney of guinea pigs!)\, Agape and Tilli. Together\, Olivia and Alicia will be on hand to talk about their guinea pigs and let guests interact with them. Alicia\, who is also an animal communicator\, will be available to talk about guinea pig adoption as well.<br />\n<br />\nIf you already have a guinea pig\, please bring them along and have your photo taken together in our piggy photo booth! Seriously\, it&rsquo\;s going to be pigtastic.<br />\n<br />\nhttp://www.jookiephoto.com/blog/2011/05/a-jookie-pignic-with-guest-volunteer-from-red-door-animal-shelter-sponsored-by-piggy-toes/
LOCATION:4656 N. Rockwell Street\, Chicago\, IL
UID:e.697.1038
SEQUENCE:3
DTSTAMP:20260420T142236Z
URL:http://lincolnsquareravenswood.smartcms.site/events/details/a-jookie-pignic-sponsored-by-piggy-toes-1038
END:VEVENT

END:VCALENDAR
