BEGIN:VCALENDAR
VERSION:2.0
PRODID:-//ChamberMaster//Event Calendar 2.0//EN
METHOD:PUBLISH
X-PUBLISHED-TTL:P3D
REFRESH-INTERVAL:P3D
CALSCALE:GREGORIAN
BEGIN:VEVENT
DTSTART:20100128T010000Z
DTEND:20100128T040000Z
X-MICROSOFT-CDO-ALLDAYEVENT:FALSE
SUMMARY:A Night in Vienna
DESCRIPTION:A prix- fixe menu of traditional Austrian fare\, accompanied with live music in honor of Mozart's birthday!
X-ALT-DESC;FMTTYPE=text/html:<div>A prix- fixe menu of traditional Austrian fare\, accompanied with live music in honor of Mozart's birthday!</div>
LOCATION:Julis Meinl- LincolnWednesday\, January 27th
UID:e.697.35
SEQUENCE:3
DTSTAMP:20260421T190327Z
URL:http://lincolnsquareravenswood.smartcms.site/events/details/a-night-in-vienna-35
END:VEVENT

END:VCALENDAR
