BEGIN:VCALENDAR
VERSION:2.0
PRODID:-//ChamberMaster//Event Calendar 2.0//EN
METHOD:PUBLISH
X-PUBLISHED-TTL:P3D
REFRESH-INTERVAL:P3D
CALSCALE:GREGORIAN
BEGIN:VEVENT
DTSTART:20120226T003000Z
DTEND:20120226T053000Z
X-MICROSOFT-CDO-ALLDAYEVENT:FALSE
SUMMARY:A Night of Reminiscing
DESCRIPTION:Gateway To Learning proudly presents a "Night of Reminising" with Denny Diamond and the Family Jewels.  Enjoy the sounds of Johnny Cash\, Elvis and NEIL DIAMOND.  Dinner is provided by "Tailgators BBQ Catering." Cash bar.  Pre-purchase tickets at GTL 773-784-3200 or web gtlchicago.com
X-ALT-DESC;FMTTYPE=text/html:Gateway To Learning proudly presents a &quot\;Night of Reminising&quot\; with Denny Diamond and the Family Jewels.&nbsp\; Enjoy the sounds of Johnny Cash\, Elvis and NEIL DIAMOND.&nbsp\; Dinner is provided by &quot\;Tailgators BBQ Catering.&quot\; Cash bar.&nbsp\; Pre-purchase tickets at GTL 773-784-3200 or web gtlchicago.com
LOCATION:Gateway to Learning 4925 N. Lincoln Ave.
UID:e.697.2458
SEQUENCE:3
DTSTAMP:20260420T013213Z
URL:http://lincolnsquareravenswood.smartcms.site/events/details/a-night-of-reminiscing-2458
END:VEVENT

END:VCALENDAR
