BEGIN:VCALENDAR
VERSION:2.0
PRODID:-//ChamberMaster//Event Calendar 2.0//EN
METHOD:PUBLISH
X-PUBLISHED-TTL:P3D
REFRESH-INTERVAL:P3D
CALSCALE:GREGORIAN
BEGIN:VEVENT
DTSTART:20101021T233000Z
DTEND:20101022T023000Z
X-MICROSOFT-CDO-ALLDAYEVENT:FALSE
SUMMARY:A Taste of Fooditude
DESCRIPTION:Fooditude\, a reality based\, multi-media program for ?Tweens? (children ages 8 to 12) that keeps kids and food as its central theme\, celebrates one year since its Mission Launch with the second annual ?A Taste of Fooditude.  Beverages for both adults and kids provided by Honest Tea and Arcadia Ales will help wash down delicious food\, inspired by our favorite childhood treats\, prepared by local chefs and restaurants including Apart Pizza\, Yum Universe\, Bleeding Heart Bakery\, Balsan and Top Chef Contestant Valerie Bolon. Entertainment includes live music\, a children?s play area sponsored by Dream Big\, Performing Arts Workshop\, a silent auction and the presentation of Fooditude webisodes.
X-ALT-DESC;FMTTYPE=text/html:Fooditude\, a reality based\, multi-media program for ?Tweens? (children ages 8 to 12) that keeps kids and food as its central theme\, celebrates one year since its Mission Launch with the second annual ?A Taste of Fooditude.  Beverages for both adults and kids provided by Honest Tea and Arcadia Ales will help wash down delicious food\, inspired by our favorite childhood treats\, prepared by local chefs and restaurants including Apart Pizza\, Yum Universe\, Bleeding Heart Bakery\, Balsan and Top Chef Contestant Valerie Bolon. Entertainment includes live music\, a children?s play area sponsored by Dream Big\, Performing Arts Workshop\, a silent auction and the presentation of Fooditude webisodes.
LOCATION:Architectural Artifacts at 4325 North Ravenswood Avenue
UID:e.697.646
SEQUENCE:3
DTSTAMP:20260421T045827Z
URL:http://lincolnsquareravenswood.smartcms.site/events/details/a-taste-of-fooditude-646
END:VEVENT

END:VCALENDAR
