BEGIN:VCALENDAR
VERSION:2.0
PRODID:-//ChamberMaster//Event Calendar 2.0//EN
METHOD:PUBLISH
X-PUBLISHED-TTL:P3D
REFRESH-INTERVAL:P3D
CALSCALE:GREGORIAN
BEGIN:VEVENT
DTSTART:20100224T003000Z
DTEND:20100224T030000Z
X-MICROSOFT-CDO-ALLDAYEVENT:FALSE
SUMMARY:Across the Table's Community Conversation
DESCRIPTION:Across the Table bridges gaps between our diverse communities by uniting Chicagoans for delicious meals and dynamic conversations. In order to insure that our conversations are intimate and our groups cohesive\, all of our gatherings are limited to ten people and the conversations are always led by a facilitator. \n\n\n\nAcross the Table's weekly community dinner is taking place on February 23rd from 6:30 to 9:00 pm at Los Nopales Restaurant. The topic of conversation is: How do we define what beauty is and where does this definition come from?\n\n\n\nYou will have the chance to enjoy a family-style dinner that will give you a taste of all that Los Nopales has to offer. \n\n\n\nLos Nopales is located between Sunnyside and Wilson Avenues and is a short walk from the Western Brown Line station. $30 includes a four course\, family style dinner.\n\n\n\nTo register and for more information\, go to: www.acrossthetable.org.
X-ALT-DESC;FMTTYPE=text/html:Across the Table bridges gaps between our diverse communities by uniting Chicagoans for delicious meals and dynamic conversations. In order to insure that our conversations are intimate and our groups cohesive\, all of our gatherings are limited to ten people and the conversations are always led by a facilitator. \n<br>\n<br>Across the Table's weekly community dinner is taking place on February 23rd from 6:30 to 9:00 pm at Los Nopales Restaurant. The topic of conversation is: How do we define what beauty is and where does this definition come from?\n<br>\n<br>You will have the chance to enjoy a family-style dinner that will give you a taste of all that Los Nopales has to offer. \n<br>\n<br>Los Nopales is located between Sunnyside and Wilson Avenues and is a short walk from the Western Brown Line station. $30 includes a four course\, family style dinner.\n<br>\n<br>To register and for more information\, go to: www.acrossthetable.org. 
LOCATION:Los Nopales located at 4544 North Western Ave.
UID:e.697.68
SEQUENCE:3
DTSTAMP:20260421T173142Z
URL:http://lincolnsquareravenswood.smartcms.site/events/details/across-the-table-s-community-conversation-68
END:VEVENT

END:VCALENDAR
