BEGIN:VCALENDAR
VERSION:2.0
PRODID:-//ChamberMaster//Event Calendar 2.0//EN
METHOD:PUBLISH
X-PUBLISHED-TTL:P3D
REFRESH-INTERVAL:P3D
CALSCALE:GREGORIAN
BEGIN:VEVENT
DTSTART:20111029T200000Z
DTEND:20111029T210000Z
X-MICROSOFT-CDO-ALLDAYEVENT:FALSE
SUMMARY:Acupuncture For Athletic Performance
DESCRIPTION:Acupuncture is regularly used by weekend warriors and competitive athletes. It can be used to boost athletic performance\, speed recovery time\, help your body heal from common injuries\, and keep your mind clear and focused.\n\n\n\nDuring the winter months\, you may find that your energy levels decrease\, muscles and ligaments become more susceptible to injury\, chronic injuries may worsen or flair up and you may contract colds or flu.\n\n\n\nAcupuncture works to overcome these obstacles by increasing circulation\, releasing endorphins and other hormones to promote natural healing and balance within the body.\n\n\n\nSome common conditions that will be reviewed include:\n\n\n\n  Musculoskeletal and Constitutional Imbalances\n\n  Pain from Sports Injuries\n\n  Stiffness and Swelling\n\n  Insomnia\n\n  Asthma\n\n  Stop Smoking\n\n  Reduce Anxiety (pre event)\n\n  Reduce Future Injuries\n\n  Improve Balance and Agility\n\n  Boost Your Immune System\n\n\n\nPlease visit the events section of our website www.RennWellness.com or call us at 773.878.7330 to register.\n\n\n\nPresented at Ravenswood Chiropractic & Wellness Center 5215 N. Ravenswood\, Suite 105\, Chicago\, IL\, 60640
X-ALT-DESC;FMTTYPE=text/html:Acupuncture is regularly used by weekend warriors and competitive athletes. It can be used to boost athletic performance\, speed recovery time\, help your body heal from common injuries\, and keep your mind clear and focused.<br />\n<br />\nDuring the winter months\, you may find that your energy levels decrease\, muscles and ligaments become more susceptible to injury\, chronic injuries may worsen or flair up and you may contract colds or flu.<br />\n<br />\nAcupuncture works to overcome these obstacles by increasing circulation\, releasing endorphins and other hormones to promote natural healing and balance within the body.<br />\n<br />\nSome common conditions that will be reviewed include:<br />\n<br />\n&bull\; Musculoskeletal and Constitutional Imbalances<br />\n&bull\; Pain from Sports Injuries<br />\n&bull\; Stiffness and Swelling<br />\n&bull\; Insomnia<br />\n&bull\; Asthma<br />\n&bull\; Stop Smoking<br />\n&bull\; Reduce Anxiety (pre event)<br />\n&bull\; Reduce Future Injuries<br />\n&bull\; Improve Balance and Agility<br />\n&bull\; Boost Your Immune System<br />\n<br />\nPlease visit the events section of our website www.RennWellness.com or call us at 773.878.7330 to register.<br />\n<br />\n<em>Presented at Ravenswood Chiropractic &amp\; Wellness Center 5215 N. Ravenswood\, Suite 105\, Chicago\, IL\, 60640</em><br />\n
LOCATION:Ravenswood Chiropractic & Wellness Center 5215 N. Ravenswood\, Suite 105 Chicago\, IL\, 60640
UID:e.697.2133
SEQUENCE:3
DTSTAMP:20260420T081447Z
URL:http://lincolnsquareravenswood.smartcms.site/events/details/acupuncture-for-athletic-performance-2133
END:VEVENT

END:VCALENDAR
