BEGIN:VCALENDAR
VERSION:2.0
PRODID:-//ChamberMaster//Event Calendar 2.0//EN
METHOD:PUBLISH
X-PUBLISHED-TTL:P3D
REFRESH-INTERVAL:P3D
CALSCALE:GREGORIAN
BEGIN:VEVENT
DTSTART:20111119T210000Z
DTEND:20111119T220000Z
X-MICROSOFT-CDO-ALLDAYEVENT:FALSE
SUMMARY:Acupuncture for Digestive Problems
DESCRIPTION:Acupuncture for Digestive Problems presented by licensed Chicago Acupuncturist\, Tracie Hinton-Chavez\, LAc.\n\n	\n\n	During the first half of the workshop you will learn about the fascinating way Traditional Chinese Medicine has evolved to its present form in the United States and how the power of Qi is harnessed and balanced to achieve optimal health benefits. This will include an overview of the Traditional Chinese Medicine components of Acupuncture\, Acupressure\, Cupping\, Moxibustion\, Gua Sha\, Chinese Herbs\, and more!\n\n	\n\n	The second half of the workshop applies Traditional Chinese Medicine principles to choosing food combinations and healing digestive systems by Repairing\, Rebuilding and Restoring Digestive balance.\n\n	\n\n	Seating is limited\, please register by visiting the events section of our website www.RennWellness.com or by calling our office before November 18th.\n\n	\n\n	This event is free.\n\n	For more information call us at 773.878.7330
X-ALT-DESC;FMTTYPE=text/html:<p style="text-align: center\;">\n	Acupuncture for Digestive Problems presented by licensed Chicago Acupuncturist\, Tracie Hinton-Chavez\, LAc.<br />\n	<br />\n	During the first half of the workshop you will learn about the fascinating way Traditional Chinese Medicine has evolved to its present form in the United States and how the power of Qi is harnessed and balanced to achieve optimal health benefits. This will include an overview of the Traditional Chinese Medicine components of Acupuncture\, Acupressure\, Cupping\, Moxibustion\, Gua Sha\, Chinese Herbs\, and more!<br />\n	<br />\n	The second half of the workshop applies Traditional Chinese Medicine principles to choosing food combinations and healing digestive systems by Repairing\, Rebuilding and Restoring Digestive balance.<br />\n	<br />\n	Seating is limited\, please register by visiting the events section of our website www.RennWellness.com or by calling our office before November 18th.<br />\n	<br />\n	This event is free.<br />\n	For more information call us at 773.878.7330</p>\n
LOCATION:5215 N Ravenswood\, 105\, 60640
UID:e.697.2170
SEQUENCE:3
DTSTAMP:20260420T063303Z
URL:http://lincolnsquareravenswood.smartcms.site/events/details/acupuncture-for-digestive-problems-2170
END:VEVENT

END:VCALENDAR
