BEGIN:VCALENDAR
VERSION:2.0
PRODID:-//ChamberMaster//Event Calendar 2.0//EN
METHOD:PUBLISH
X-PUBLISHED-TTL:P3D
REFRESH-INTERVAL:P3D
CALSCALE:GREGORIAN
BEGIN:VEVENT
DTSTART:20120616T190000Z
DTEND:20120616T230000Z
X-MICROSOFT-CDO-ALLDAYEVENT:FALSE
SUMMARY:Aligned Modern Health - Grand Opening Celebration
DESCRIPTION:Grand Opening Event of "Aligned Modern Health" in Lincoln Square! A new great destination: Chiropractors - Yoga & Pilates - Massages\n\n\n\nCome between 2:00 and 6:00 and see live performances of Wetherman and Eric Majeski!
X-ALT-DESC;FMTTYPE=text/html:Grand Opening Event of &quot\;Aligned Modern Health&quot\; in Lincoln Square! A new great destination: Chiropractors - Yoga &amp\; Pilates - Massages<br />\n<br />\nCome between 2:00 and 6:00 and see live performances of Wetherman and Eric Majeski!<br />\n<br />\n
LOCATION:4555 N Lincoln Avenue
UID:e.697.3560
SEQUENCE:3
DTSTAMP:20260419T183426Z
URL:http://lincolnsquareravenswood.smartcms.site/events/details/aligned-modern-health-grand-opening-celebration-3560
END:VEVENT

END:VCALENDAR
