BEGIN:VCALENDAR
VERSION:2.0
PRODID:-//ChamberMaster//Event Calendar 2.0//EN
METHOD:PUBLISH
X-PUBLISHED-TTL:P3D
REFRESH-INTERVAL:P3D
CALSCALE:GREGORIAN
BEGIN:VEVENT
DTSTART:20100515T200000Z
DTEND:20100515T223000Z
X-MICROSOFT-CDO-ALLDAYEVENT:FALSE
SUMMARY:Altered Book Workshop @ Sacred Art
DESCRIPTION:An Altered Book is a one-of-a-kind creative expression that cannot be replicated.  Altered Books are made by transforming previously-loved\n\nliterature into newly sculptural works of self-expression.  Participants will learn to create original stories and/or poems through the altering of text and the addition of paint\, photographs\, pockets\, windows\, niches and more. Each student will be provided with two books\, one for demonstrating sample techniques and one for\n\ncreative use after the workshop.\n\n\n\n**Most necessary materials will be supplied.  Participants are asked to\n\nbring a glue stick\, scissors and/or an X-acto knife\, as well as\n\nphotocopies (B&W or color) of old photographs\, favorite quotes\, found\n\nobjects\, paper ephemera\, brads\, buttons\, thread & needle\, or any\n\n"extras" that you might want to add to your book pages!
X-ALT-DESC;FMTTYPE=text/html:An Altered Book is a one-of-a-kind creative expression that cannot be replicated.  Altered Books are made by transforming previously-loved\n<br>literature into newly sculptural works of self-expression.  Participants will learn to create original stories and/or poems through the altering of text and the addition of paint\, photographs\, pockets\, windows\, niches and more. Each student will be provided with two books\, one for demonstrating sample techniques and one for\n<br>creative use after the workshop.\n<br>\n<br>**Most necessary materials will be supplied.  Participants are asked to\n<br>bring a glue stick\, scissors and/or an X-acto knife\, as well as\n<br>photocopies (B&amp\;W or color) of old photographs\, favorite quotes\, found\n<br>objects\, paper ephemera\, brads\, buttons\, thread &amp\; needle\, or any\n<br>"extras" that you might want to add to your book pages!\n<br> 
LOCATION:Sacred Art 4619 North Lincoln Ave
UID:e.697.490
SEQUENCE:3
DTSTAMP:20260421T111326Z
URL:http://lincolnsquareravenswood.smartcms.site/events/details/altered-book-workshop-sacred-art-490
END:VEVENT

END:VCALENDAR
