BEGIN:VCALENDAR
VERSION:2.0
PRODID:-//ChamberMaster//Event Calendar 2.0//EN
METHOD:PUBLISH
X-PUBLISHED-TTL:P3D
REFRESH-INTERVAL:P3D
CALSCALE:GREGORIAN
BEGIN:VEVENT
DTSTART:20100418T180000Z
DTEND:20100418T210000Z
X-MICROSOFT-CDO-ALLDAYEVENT:FALSE
SUMMARY:An Afternoon Fashion Show
DESCRIPTION:Chicago BrauhauspresentsAn Afternoon Fashion Showfeaturing contemporary as well as original German and Austrian Apparel from International Fashions by Ingrid Full Menu Available Reservations 773-784-7444
X-ALT-DESC;FMTTYPE=text/html:<div style="text-align: center"><span style="font-size: small"><span style="font-family: Comic Sans MS">Chicago Brauhaus</span></span></div><div style="text-align: center"><span style="font-size: small"><span style="font-family: Comic Sans MS">presents</span></span></div><div style="text-align: center"><span style="font-size: small"><span style="font-family: Comic Sans MS">An Afternoon Fashion Show</span></span></div><div style="text-align: center"><span style="font-size: small"><span style="font-family: Comic Sans MS">featuring contemporary as well as original German and Austrian Apparel from </span></span></div><div style="text-align: center"><span style="font-size: small"><span style="font-family: Comic Sans MS">International Fashions by Ingrid</span></span></div><div style="text-align: center">&nbsp\;</div><div style="text-align: center"><span style="font-size: small"><span style="font-family: Comic Sans MS">Full Menu Available</span></span></div><div style="text-align: center">&nbsp\;</div><div style="text-align: center"><span style="font-size: small"><span style="font-family: Comic Sans MS">Reservations 773-784-7444</span></span></div><div>&nbsp\;</div>
LOCATION:Chicago Brauhaus4732 N. Lincoln Ave.Chicago\, IL 60625
UID:e.697.300
SEQUENCE:3
DTSTAMP:20260421T141440Z
URL:http://lincolnsquareravenswood.smartcms.site/events/details/an-afternoon-fashion-show-300
END:VEVENT

END:VCALENDAR
