BEGIN:VCALENDAR
VERSION:2.0
PRODID:-//ChamberMaster//Event Calendar 2.0//EN
METHOD:PUBLISH
X-PUBLISHED-TTL:P3D
REFRESH-INTERVAL:P3D
CALSCALE:GREGORIAN
BEGIN:VEVENT
DTSTART:20110430T140000Z
DTEND:20110430T200000Z
X-MICROSOFT-CDO-ALLDAYEVENT:FALSE
SUMMARY:Annual Spring Rummage\, Perennial & Bake Sale Plus Lunch
DESCRIPTION:Come shop our great sale and enjoy a delicious lunch! Luther Memorial Church of Chicago\, 2500 W. Wilson Ave.\, Chicago IL 60625\, is hosting its Annual Spring Rummage\, Perennial & Bake Sale Plus Lunch event on SATURDAY\, April 30\, from 9 a.m. to 3 p.m. For more information\, please call the church office 773/539-3018 or visit its Web site www.luthermemorialchicago.org.
X-ALT-DESC;FMTTYPE=text/html:Come shop our great sale and enjoy a delicious lunch! Luther Memorial Church of Chicago\, 2500 W. Wilson Ave.\, Chicago IL 60625\, is hosting its Annual Spring Rummage\, Perennial &amp\; Bake Sale Plus Lunch event on SATURDAY\, April 30\, from 9 a.m. to 3 p.m. For more information\, please call the church office 773/539-3018 or visit its Web site www.luthermemorialchicago.org.
LOCATION:Luther Memorial Church of Chicago 2500 W Wilson Ave.
UID:e.697.863
SEQUENCE:3
DTSTAMP:20260420T173624Z
URL:http://lincolnsquareravenswood.smartcms.site/events/details/annual-spring-rummage-perennial-bake-sale-plus-lunch-863
END:VEVENT

END:VCALENDAR
