BEGIN:VCALENDAR
VERSION:2.0
PRODID:-//ChamberMaster//Event Calendar 2.0//EN
METHOD:PUBLISH
X-PUBLISHED-TTL:P3D
REFRESH-INTERVAL:P3D
CALSCALE:GREGORIAN
BEGIN:VEVENT
DTSTART:20120417T233000Z
DTEND:20120418T013000Z
X-MICROSOFT-CDO-ALLDAYEVENT:FALSE
SUMMARY:April Membership Networking Event
DESCRIPTION:Join the Lincoln Chamber of Chamber of Commerce on Tuesday\, April 17th at 6:30pm for the quarterly evening Networking Event.  This quarter's event will be held at Ravenswood Health Center. \n\n\n\nThis event will feature an informative and lively panel discussion on various aspects of a sustainable business.  Afterward\, mingle with fellow business owners from the Lincoln Square / Ravenswood area.\n\n\n\n**Food will be provided.
X-ALT-DESC;FMTTYPE=text/html:Join the Lincoln Chamber of Chamber of Commerce on Tuesday\, April 17th at 6:30pm for the quarterly evening Networking Event.&nbsp\; This quarter&#39\;s event will be held at Ravenswood Health Center.&nbsp\;<br />\n<br />\nThis event will feature an informative and lively panel discussion on various aspects of a sustainable business.&nbsp\; Afterward\, mingle with fellow business owners from the Lincoln Square / Ravenswood area.<br />\n<br />\n<em>**Food will be provided.</em>
LOCATION:Ravenswood Health Center 4256 N. Ravenswood\, Suite 101
UID:e.697.2547
SEQUENCE:3
DTSTAMP:20260419T215844Z
URL:http://lincolnsquareravenswood.smartcms.site/events/details/april-membership-networking-event-2547
END:VEVENT

END:VCALENDAR
