BEGIN:VCALENDAR
VERSION:2.0
PRODID:-//ChamberMaster//Event Calendar 2.0//EN
METHOD:PUBLISH
X-PUBLISHED-TTL:P3D
REFRESH-INTERVAL:P3D
CALSCALE:GREGORIAN
BEGIN:VEVENT
DTSTART:20120422T180000Z
DTEND:20120422T203000Z
X-MICROSOFT-CDO-ALLDAYEVENT:FALSE
SUMMARY:Ataxia Support Group
DESCRIPTION:Chicago Area Ataxia Support Group\n\n\n\nTracie Hinton-Chavez is a Licensed Acupuncturist who will be a guest speaker at this months meeting.\n\n\n\nCome out to have some fun with some old friends or to meet some new ones.  Bring a snack & learn something new.  We look forward to seeing you!
X-ALT-DESC;FMTTYPE=text/html:<span style="font-size:14px\;"><strong>Chicago Area Ataxia Support Group</strong></span><br />\n<br />\nTracie Hinton-Chavez is a Licensed Acupuncturist who will be a guest speaker at this months meeting.<br />\n<br />\nCome out to have some fun with some old friends or to meet some new ones.&nbsp\; Bring a snack &amp\; learn something new.&nbsp\; We look forward to seeing you!<br />\n<br />\n
LOCATION:5215 N. Ravenswood Ave Unit # 105 Chicago\, IL 60640
UID:e.697.2515
SEQUENCE:3
DTSTAMP:20260419T215817Z
URL:http://lincolnsquareravenswood.smartcms.site/events/details/ataxia-support-group-2515
END:VEVENT

END:VCALENDAR
