BEGIN:VCALENDAR
VERSION:2.0
PRODID:-//ChamberMaster//Event Calendar 2.0//EN
METHOD:PUBLISH
X-PUBLISHED-TTL:P3D
REFRESH-INTERVAL:P3D
CALSCALE:GREGORIAN
BEGIN:VEVENT
DTSTART:20100919T200000Z
DTEND:20100920T010000Z
X-MICROSOFT-CDO-ALLDAYEVENT:FALSE
SUMMARY:Bach & beyond
DESCRIPTION:Ein Abend mit Meistern der Deutschen Musik. We've got Bach and Beethoven for your listening pleasure and a full buffet for the early birds with advanced tickets.\n\nTo ensure a scrumptious dining experience\, head to http://www.bachandbeyond.org/ or call (773)315-6395 to get your hands on an advanced ticket.\n\nPrices are between $10-20
X-ALT-DESC;FMTTYPE=text/html:Ein Abend mit Meistern der Deutschen Musik. We've got Bach and Beethoven for your listening pleasure and a full buffet for the early birds with advanced tickets.\n<br>To ensure a scrumptious dining experience\, head to http://www.bachandbeyond.org/ or call (773)315-6395 to get your hands on an advanced ticket.\n<br>Prices are between $10-20
LOCATION:
UID:e.697.591
SEQUENCE:3
DTSTAMP:20260421T045513Z
URL:http://lincolnsquareravenswood.smartcms.site/events/details/bach-beyond-591
END:VEVENT

END:VCALENDAR
