BEGIN:VCALENDAR
VERSION:2.0
PRODID:-//ChamberMaster//Event Calendar 2.0//EN
METHOD:PUBLISH
X-PUBLISHED-TTL:P3D
REFRESH-INTERVAL:P3D
CALSCALE:GREGORIAN
BEGIN:VEVENT
DTSTART;VALUE=DATE:20110925
DTEND;VALUE=DATE:20110926
TRANSP:TRANSPARENT
X-MICROSOFT-CDO-ALLDAYEVENT:TRUE
SUMMARY:Bears vs. Packers at Huettenbar!
DESCRIPTION:Come watch the Bears vs. Packers at 3:15!\n\n\n\n* $4.00 Mimosas!\n\n\n\n* $6.50 Bloody Marys\, +$2.00 for beer back!\n\n\n\n* $5.50 Spaten Oktoberfest!\n\n\n\nAnd for the first time ever\, Kostrizer Oktoberfest on TAP!
X-ALT-DESC;FMTTYPE=text/html:Come watch the Bears vs. Packers at 3:15!<br />\n<br />\n* $4.00 Mimosas!<br />\n<br />\n* $6.50 Bloody Marys\, +$2.00 for beer back!<br />\n<br />\n* $5.50 Spaten Oktoberfest!<br />\n<br />\nAnd for the first time ever\, Kostrizer Oktoberfest on TAP!<br />\n<br />\n
LOCATION:Huettenbar 4721 N Lincoln Ave.
UID:e.697.1930
SEQUENCE:3
DTSTAMP:20260420T094020Z
URL:http://lincolnsquareravenswood.smartcms.site/events/details/bears-vs-packers-at-huettenbar-1930
END:VEVENT

END:VCALENDAR
