BEGIN:VCALENDAR
VERSION:2.0
PRODID:-//ChamberMaster//Event Calendar 2.0//EN
METHOD:PUBLISH
X-PUBLISHED-TTL:P3D
REFRESH-INTERVAL:P3D
CALSCALE:GREGORIAN
BEGIN:VEVENT
DTSTART:20120428T210000Z
DTEND:20120428T220000Z
X-MICROSOFT-CDO-ALLDAYEVENT:FALSE
SUMMARY:Bell Elementary's Sign/Voice Theatre Presents "Peter Pan"
DESCRIPTION:Alexander Graham Bell Elementary's longstanding tradition of Sign/Voice Theatre continues this Saturday\, April 28th with a unique re-imagining of "Peter Pan." The ensemble cast will perform in coordinated sign and voice\, making the play accessible to both hard of hearing and hearing audience members.\n\n\n\nBell's "Peter Pan" is directed by Lookingglass Theatre Teaching Artists Levi Holloway and Katie Boza\, and features a dynamic retelling of Peter's adventures in Neverland.\n\n\n\nWhere: A.G. Bell Elementary\, 3730 N. Oakley\n\nWhen: Saturday\, April 28th\, 4 PM\, Doors at 3:30\n\nPhone: 773-534-5150\n\nPrice: $7 adults\, $4 children\n\n\n\nhttp://www.agbellschool.com/\n\nhttp://agbellschool.com/bell-link-news-mainmenu-2/bell-news/peter-pan-tix\n\n\n\nHope to see you there!
X-ALT-DESC;FMTTYPE=text/html:<span style="font-family:arial\,sans-serif\;"><span style="font-size:10.0pt\;">Alexander Graham Bell Elementary&#39\;s longstanding tradition of Sign/Voice Theatre continues this Saturday\, April 28th with a unique re-imagining of &quot\;Peter Pan.&quot\; The ensemble cast will perform in coordinated sign and voice\, making the play accessible to both hard of hearing and hearing audience members.<br />\n<br />\nBell&rsquo\;s &quot\;Peter Pan&quot\; is directed by Lookingglass Theatre Teaching Artists Levi Holloway and Katie Boza\, and features a dynamic retelling of Peter&#39\;s adventures in Neverland.<br />\n<br />\nWhere: A.G. Bell Elementary\, 3730 N. Oakley<br />\nWhen: Saturday\, April 28th\, 4 PM\, Doors at 3:30<br />\nPhone: 773-534-5150<br />\nPrice: $7 adults\, $4 children<br />\n<br />\n<a href="http://www.agbellschool.com/">http://www.agbellschool.com/</a><br />\n<a href="http://agbellschool.com/bell-link-news-mainmenu-2/bell-news/peter-pan-tix">http://agbellschool.com/bell-link-news-mainmenu-2/bell-news/peter-pan-tix</a><br />\n<br />\n<strong>Hope to see you there! </strong></span></span>
LOCATION:A.G. Bell Elementary 3730 N. Oakley
UID:e.697.2563
SEQUENCE:3
DTSTAMP:20260419T215952Z
URL:http://lincolnsquareravenswood.smartcms.site/events/details/bell-elementary-s-sign-voice-theatre-presents-peter-pan-2563
END:VEVENT

END:VCALENDAR
