BEGIN:VCALENDAR
VERSION:2.0
PRODID:-//ChamberMaster//Event Calendar 2.0//EN
METHOD:PUBLISH
X-PUBLISHED-TTL:P3D
REFRESH-INTERVAL:P3D
CALSCALE:GREGORIAN
BEGIN:VEVENT
DTSTART:20110601T170000Z
DTEND:20110601T180000Z
X-MICROSOFT-CDO-ALLDAYEVENT:FALSE
SUMMARY:BETHANY RETIREMENT OPEN HOUSE/PIE TASTING
DESCRIPTION:LOOKING FOR WONDERFUL AND AFFORDABLE RETIREMENT LIVING??\n\n	Bethany Retirement Community will be hosting several OPEN HOUSE/PIE TASTING EVENTS THROUGHOUT THE MONTHS OF JUNE AND JULY!\n\n	RSVP TO: 773-293-5563 - SEATING IS LIMITED!
X-ALT-DESC;FMTTYPE=text/html:<p>\n	LOOKING FOR WONDERFUL AND AFFORDABLE RETIREMENT LIVING??<br />\n	Bethany Retirement Community will be hosting several <strong>OPEN HOUSE/PIE TASTING EVENTS </strong>THROUGHOUT THE MONTHS OF JUNE AND JULY!<br />\n	RSVP TO: 773-293-5563 - SEATING IS LIMITED!<br />\n	<br />\n	&nbsp\;</p>\n
LOCATION:Bethany Retirement Community 4950 N. Ashland Ave.\, Chicago\, IL 60640
UID:e.697.878
SEQUENCE:3
DTSTAMP:20260420T142017Z
URL:http://lincolnsquareravenswood.smartcms.site/events/details/bethany-retirement-open-house-pie-tasting-878
END:VEVENT

END:VCALENDAR
