BEGIN:VCALENDAR
VERSION:2.0
PRODID:-//ChamberMaster//Event Calendar 2.0//EN
METHOD:PUBLISH
X-PUBLISHED-TTL:P3D
REFRESH-INTERVAL:P3D
CALSCALE:GREGORIAN
BEGIN:VEVENT
DTSTART;VALUE=DATE:20101124
DTEND;VALUE=DATE:20101125
TRANSP:TRANSPARENT
X-MICROSOFT-CDO-ALLDAYEVENT:TRUE
SUMMARY:Black Wednesday Canned Food Drive
DESCRIPTION:Come in tonight for our Canned Food Drive featuring the live music of Shelley Miller.\n\n\n\nFrom 9:00-11:00\, for $25 per person\, all you can drink Kronenbourgh\, Southampton Double White and Great Lakes Edmund Fitzgerald. \n\n\n\nBring three canned foods and take $10 off! That's only $15 per person.
X-ALT-DESC;FMTTYPE=text/html:Come in tonight for our Canned Food Drive featuring the live music of Shelley Miller.\n<br>\n<br>From 9:00-11:00\, for $25 per person\, all you can drink Kronenbourgh\, Southampton Double White and Great Lakes Edmund Fitzgerald. \n<br>\n<br>Bring three canned foods and take $10 off! That's only $15 per person. 
LOCATION:The Grafton\, 4530 N. Lincoln Avenue.
UID:e.697.688
SEQUENCE:3
DTSTAMP:20260421T031612Z
URL:http://lincolnsquareravenswood.smartcms.site/events/details/black-wednesday-canned-food-drive-688
END:VEVENT

END:VCALENDAR
