BEGIN:VCALENDAR
VERSION:2.0
PRODID:-//ChamberMaster//Event Calendar 2.0//EN
METHOD:PUBLISH
X-PUBLISHED-TTL:P3D
REFRESH-INTERVAL:P3D
CALSCALE:GREGORIAN
BEGIN:VEVENT
DTSTART:20110626T200000Z
DTEND:20110626T220000Z
X-MICROSOFT-CDO-ALLDAYEVENT:FALSE
SUMMARY:Booze\, Food & Beer: Small Bites w/Provenance & The Grafton
DESCRIPTION:Provenance Lincoln Square & The Grafton invite you to meet and taste with representatives of Hook's Cheese\, Jo Snow Syrups\, Leopold Bros. Spirits\, Bulleit Bourbon & Bridgeport Brewery. This walk-around event showcases 4 of our favorite pairings:\n\n\n\n*Hook's Cheeses (WI) with Bridgeport Highland Ambush Scotch Ale\n\n*BBQ Pulled Pork with Bulleit Bourbon\n\n*Spencer's Jolly Posh Bangers with Bulleit Bourbon\n\n*Jo Snow Sno Cones with Leopold Brothers Gin & Cherry Liqueur\n\n\n\nCost is $30/person advance\; $40 day of (if available)\n\n\n\nLive Irish Folk Music starting at 4p\; special retail pricing on featured spirits from Provenance.\n\n\n\nPurchase tickets at www.brownpapertickets.com\; keyword "Grafton"
X-ALT-DESC;FMTTYPE=text/html:Provenance Lincoln Square &amp\; The Grafton invite you to meet and taste with representatives of Hook&#39\;s Cheese\, Jo Snow Syrups\, Leopold Bros. Spirits\, Bulleit Bourbon &amp\; Bridgeport Brewery. This walk-around event showcases 4 of our favorite pairings:<br />\n<br />\n*Hook&#39\;s Cheeses (WI) with Bridgeport Highland Ambush Scotch Ale<br />\n*BBQ Pulled Pork with Bulleit Bourbon<br />\n*Spencer&#39\;s Jolly Posh Bangers with Bulleit Bourbon<br />\n*Jo Snow Sno Cones with Leopold Brothers Gin &amp\; Cherry Liqueur<br />\n<br />\nCost is $30/person advance\; $40 day of (if available)<br />\n<br />\nLive Irish Folk Music starting at 4p\; special retail pricing on featured spirits from Provenance.<br />\n<br />\nPurchase tickets at www.brownpapertickets.com\; keyword &quot\;Grafton&quot\;<br />\n
LOCATION:The Grafton Pub 4530 N. Lincoln Avenue Chicago\, Illinois
UID:e.697.1054
SEQUENCE:3
DTSTAMP:20260420T142322Z
URL:http://lincolnsquareravenswood.smartcms.site/events/details/booze-food-beer-small-bites-w-provenance-the-grafton-1054
END:VEVENT

END:VCALENDAR
