BEGIN:VCALENDAR
VERSION:2.0
PRODID:-//ChamberMaster//Event Calendar 2.0//EN
METHOD:PUBLISH
X-PUBLISHED-TTL:P3D
REFRESH-INTERVAL:P3D
CALSCALE:GREGORIAN
BEGIN:VEVENT
DTSTART:20120519T230000Z
DTEND:20120520T020000Z
X-MICROSOFT-CDO-ALLDAYEVENT:FALSE
SUMMARY:Boy Scout Troop 894 - Mostaccioli Dinner
DESCRIPTION:The Queen of Angels Boy Scout Troop 894 invites you to join them at their Mostaccioli Dinner on Saturday\, May 19th from 6-9 pm in the lower church\, 2330 W. Sunnyside.\n\n\n\nTickets will be sold at the door. They are $7 for adults and $4 for seniors and children (3-10 yrs).\n\n\n\nThe evening will include a bake sale and a raffle table. Please join us for a wonderful meal.
X-ALT-DESC;FMTTYPE=text/html:<span style="font-family:arial\,sans-serif\;"><span style="font-size:10.0pt\;">The Queen of Angels Boy Scout Troop 894 invites you to join them at their Mostaccioli Dinner on Saturday\, May 19th from 6-9 pm in the lower church\, 2330 W. Sunnyside.<br />\n<br />\nTickets will be sold at the door. They are $7 for adults and $4 for seniors and children (3-10 yrs).<br />\n<br />\nThe evening will include a bake sale and a raffle table. Please join us for a wonderful meal. </span></span>
LOCATION:Queen of Angels (lower church) 2330 W. Sunnyside
UID:e.697.2570
SEQUENCE:3
DTSTAMP:20260419T200830Z
URL:http://lincolnsquareravenswood.smartcms.site/events/details/boy-scout-troop-894-mostaccioli-dinner-2570
END:VEVENT

END:VCALENDAR
