BEGIN:VCALENDAR
VERSION:2.0
PRODID:-//ChamberMaster//Event Calendar 2.0//EN
METHOD:PUBLISH
X-PUBLISHED-TTL:P3D
REFRESH-INTERVAL:P3D
CALSCALE:GREGORIAN
BEGIN:VEVENT
DTSTART:20100317T233000Z
DTEND:20100318T010000Z
X-MICROSOFT-CDO-ALLDAYEVENT:FALSE
SUMMARY:Breastfeeding 101: For Expectant Parents
DESCRIPTION:Breastfeeding may come naturally\, but getting it right is not always easy. Join us for this informative workshop and let our Board Certified\, Lactation Consultant\, help you get off to the right start. This class will provide you with all of the information needed to help you make decisions about breastfeeding that are right for you and your baby. Topics include: the nutritional benefits of breastfeeding\;  what to expect\; how much baby will need\; navigating the first days\; what to do when problems arise\; how to wean...
X-ALT-DESC;FMTTYPE=text/html:Breastfeeding may come naturally\, but getting it right is not always easy. Join us for this informative workshop and let our Board Certified\, Lactation Consultant\, help you get off to the right start. This class will provide you with all of the information needed to help you make decisions about breastfeeding that are right for you and your baby. Topics include: the nutritional benefits of breastfeeding\;  what to expect\; how much baby will need\; navigating the first days\; what to do when problems arise\; how to wean... 
LOCATION:Bellybum Boutique
UID:e.697.284
SEQUENCE:3
DTSTAMP:20260421T154445Z
URL:http://lincolnsquareravenswood.smartcms.site/events/details/breastfeeding-101-for-expectant-parents-284
END:VEVENT

END:VCALENDAR
