BEGIN:VCALENDAR
VERSION:2.0
PRODID:-//ChamberMaster//Event Calendar 2.0//EN
METHOD:PUBLISH
X-PUBLISHED-TTL:P3D
REFRESH-INTERVAL:P3D
CALSCALE:GREGORIAN
BEGIN:VEVENT
DTSTART:20111105T160000Z
DTEND:20111105T170000Z
X-MICROSOFT-CDO-ALLDAYEVENT:FALSE
SUMMARY:Brewing at Home Class at Brew Camp
DESCRIPTION:Join us for our in-store class\, Brewing at Home. Walking through all the steps for homebrewing\, we will show you the equipment\, the ingredients\, and techniques for brewing your first batch.\n\n\nPrice: $20\n\nTime: 11am - 12pm\n\n\n\nRegister at www.brewcamp.com
X-ALT-DESC;FMTTYPE=text/html:<p>\n	Join us for our in-store class\, <b>Brewing at Home</b>. Walking through all the steps for homebrewing\, we will show you the equipment\, the ingredients\, and techniques for brewing your first batch.</p>\n<br />\n<b>Price:</b> $20<br />\n<b>Time:</b> 11am - 12pm<br />\n<br />\nRegister at <a href="http://www.brewcamp.com">www.brewcamp.com</a><br />\n
LOCATION:2039 W. Belle Plaine Ave. (Off Lincoln\, North of Irving Park) Chicago\, IL 60618 (773) 857-2400
UID:e.697.2198
SEQUENCE:3
DTSTAMP:20260420T063347Z
URL:http://lincolnsquareravenswood.smartcms.site/events/details/brewing-at-home-class-at-brew-camp-2198
END:VEVENT

END:VCALENDAR
