BEGIN:VCALENDAR
VERSION:2.0
PRODID:-//ChamberMaster//Event Calendar 2.0//EN
METHOD:PUBLISH
X-PUBLISHED-TTL:P3D
REFRESH-INTERVAL:P3D
CALSCALE:GREGORIAN
BEGIN:VEVENT
DTSTART:20100911T163000Z
DTEND:20100911T183000Z
X-MICROSOFT-CDO-ALLDAYEVENT:FALSE
SUMMARY:Bundesliga Breakfast: FC Bayern München-Werder Bremen
DESCRIPTION:
X-ALT-DESC;FMTTYPE=text/html:
LOCATION:4740 N Western\, Chicago
UID:e.697.619
SEQUENCE:3
DTSTAMP:20260421T045917Z
URL:http://lincolnsquareravenswood.smartcms.site/events/details/bundesliga-breakfast-fc-bayern-m&#252;nchen-werder-bremen-619
END:VEVENT

END:VCALENDAR
