BEGIN:VCALENDAR
VERSION:2.0
PRODID:-//ChamberMaster//Event Calendar 2.0//EN
METHOD:PUBLISH
X-PUBLISHED-TTL:P3D
REFRESH-INTERVAL:P3D
CALSCALE:GREGORIAN
BEGIN:VEVENT
DTSTART:20101023T183000Z
DTEND:20101023T200000Z
X-MICROSOFT-CDO-ALLDAYEVENT:FALSE
SUMMARY:Celebrate National Chiropractic Health Month with Us!
DESCRIPTION:Ravenswood Chiropractic   October 23\, 2010\n\nThe theme for the 2010 observance is ?WHY WEIGHT? GET HEALTHY!?\n\nAre aches and pains getting in the way of your weight loss goals? We can help!\n\nLosing weight can be a struggle\, and many people wonder where to begin. The Answer for some may be in the office of a chiropractic physician. ?Diet pills and extreme diets do not offer long-term solutions\,? says Dr. Rick McMichael\, president of the American Chiropractic Association. ?Doctors of Chiropractic\, on the other hand\, offer natural approaches such as exercise\, diet\, and hands-on care to help keep you active and able to achieve your weight-loss goals in the short term\, and may also help you maintain your fitness level and thereby avoid some chronic conditions down the line.?\n\nConsultation with a Chiropractic Physician is particularly important when you consider the effects of obesity on the musculoskeletal system - osteoarthritis\, back pain\, neck pain and joint pain - often cause overweight people to avoid physical activity and exercise when they need it most.\n\nIs Pain Your Obstacle to Fitness?  Attend our Open House to see how Chiropractic Can Help!\n\nSponsored by the American Chiropractic Association\, National Chiropractic Health Month is held each October. The event helps raise public awareness of the benefits of chiropractic care and its natural\, whole-person\, patient-centered approach to health and wellness.\n\nFor more information about how Ravenswood Chiropractic & Wellness Center can help you achieve better overall health and wellness\, please call us at (773) 878-7330.
X-ALT-DESC;FMTTYPE=text/html:Ravenswood Chiropractic & Wellness Center celebrates NATIONAL CHIROPRACTIC HEALTH MONTH! We warmly invite you to attend our CHIROPRACTIC OPEN HOUSE: 1:30 PM to 3:00 PM Saturday\; October 23\, 2010\n<br>The theme for the 2010 observance is ?WHY WEIGHT? GET HEALTHY!?\n<br>Are aches and pains getting in the way of your weight loss goals? We can help!\n<br>Losing weight can be a struggle\, and many people wonder where to begin. The Answer for some may be in the office of a chiropractic physician. ?Diet pills and extreme diets do not offer long-term solutions\,? says Dr. Rick McMichael\, president of the American Chiropractic Association. ?Doctors of Chiropractic\, on the other hand\, offer natural approaches such as exercise\, diet\, and hands-on care to help keep you active and able to achieve your weight-loss goals in the short term\, and may also help you maintain your fitness level and thereby avoid some chronic conditions down the line.?\n<br>Consultation with a Chiropractic Physician is particularly important when you consider the effects of obesity on the musculoskeletal system - osteoarthritis\, back pain\, neck pain and joint pain - often cause overweight people to avoid physical activity and exercise when they need it most.\n<br>Is Pain Your Obstacle to Fitness?  Attend our Open House to see how Chiropractic Can Help!\n<br>Sponsored by the American Chiropractic Association\, National Chiropractic Health Month is held each October. The event helps raise public awareness of the benefits of chiropractic care and its natural\, whole-person\, patient-centered approach to health and wellness.\n<br>For more information about how Ravenswood Chiropractic & Wellness Center can help you achieve better overall health and wellness\, please call us at (773) 878-7330.\n<br>
LOCATION:Ravenswood Chiropractic & Wellness Center 5215 North Ravenswood\, Suite 105 Chicago\, IL 60640
UID:e.697.637
SEQUENCE:3
DTSTAMP:20260421T045843Z
URL:http://lincolnsquareravenswood.smartcms.site/events/details/celebrate-national-chiropractic-health-month-with-us-637
END:VEVENT

END:VCALENDAR
