BEGIN:VCALENDAR
VERSION:2.0
PRODID:-//ChamberMaster//Event Calendar 2.0//EN
METHOD:PUBLISH
X-PUBLISHED-TTL:P3D
REFRESH-INTERVAL:P3D
CALSCALE:GREGORIAN
BEGIN:VEVENT
DTSTART:20111102T233000Z
DTEND:20111103T010000Z
X-MICROSOFT-CDO-ALLDAYEVENT:FALSE
SUMMARY:Chicago Budget Town Hall with Alderman Ameya Pawar
DESCRIPTION:Chicago Budget Town Hall\n\n	with\n\n	Alderman\n\n	Ameya Pawar\n\n	\n\n	Wednesday\, November 2nd\n\n	McPherson Elementary - 4728 N. Wolcott\n\n	6:30pm - 8:00pm\n\n	\n\n	Come and hear about the proposed 2012 City of Chicago Budget and voice your opinion on the issues that matter to you.\n\n	 \n\n	To learn more about the budget before the meeting visit www.chicagobudget.org.\n\n	 \n\n	Can't make the meeting?\n\n	Call or Email the 47th Ward Office with your thoughts:\n\n	773.868.4747 or info@chicago47.org
X-ALT-DESC;FMTTYPE=text/html:<p style="text-align: center">\n	<br />\n	<strong><span style="color: #008080"><span style="font-size: 24px">Chicago Budget Town Hall</span></span><br />\n	<span style="color: #000000"><span style="font-size: 16px">with</span><br />\n	<span style="font-size: 20px">Alderman<br />\n	Ameya Pawar</span></span></strong><br />\n	<br />\n	<span style="color: #000000"><span style="font-size: 14px"><strong>Wednesday\, November 2nd<br />\n	McPherson Elementary - 4728 N. Wolcott<br />\n	6:30pm - 8:00pm</strong></span><br />\n	<br />\n	Come and hear about the proposed 2012 City of Chicago Budget and voice your opinion on the issues that matter to you.</span><br />\n	&nbsp\;</p>\n<p style="text-align: center">\n	<span style="color: #000000">To learn more about the budget before the meeting visit www.chicagobudget.org.</span><br />\n	&nbsp\;</p>\n<p>\n	Can&#39\;t make the meeting?<br />\n	Call or Email the 47th Ward Office with your thoughts:<br />\n	773.868.4747 or <a href="mailto:info@chicago47.org">info@chicago47.org</a></p>\n
LOCATION:McPherson Elementary School 4728 N. Wolcott
UID:e.697.2189
SEQUENCE:3
DTSTAMP:20260420T063433Z
URL:http://lincolnsquareravenswood.smartcms.site/events/details/chicago-budget-town-hall-with-alderman-ameya-pawar-2189
END:VEVENT

END:VCALENDAR
