BEGIN:VCALENDAR
VERSION:2.0
PRODID:-//ChamberMaster//Event Calendar 2.0//EN
METHOD:PUBLISH
X-PUBLISHED-TTL:P3D
REFRESH-INTERVAL:P3D
CALSCALE:GREGORIAN
BEGIN:VEVENT
DTSTART:20110709T170000Z
DTEND:20110711T023000Z
X-MICROSOFT-CDO-ALLDAYEVENT:FALSE
SUMMARY:Chicago Folk & Roots Festival
DESCRIPTION:It's that time again! Round up your friends\, grab your kids\, pack a blanket and sunscreen\, and grab a spot on the grass of Welles Park and set up camp because you're not going to want to miss a minute of this year's 14th Annual Chicago Folk & Roots Festival!\n\n\n\nSaturday's Main Stage highlights include quintessential Texas blues rocker Delbert McClinton\, Louisiana's favorite Cajun sons Lost Bayou Ramblers\, Austin's rockabilly queen Rosie Flores\, and New Orleans brass band sensation Glen David Andrews. Sunday night finds us swaying to the sounds of Tuareg guitar great Bombino\, grooving to Congolese rumba-meets-hip hop-soul with Baloji\, and finishing the Fest on our feet with the sounds of salsa and Latin jazz with Maraca!
X-ALT-DESC;FMTTYPE=text/html:It&#39\;s that time again! Round up your friends\, grab your kids\, pack a blanket and sunscreen\, and grab a spot on the grass of Welles Park and set up camp because you&#39\;re not going to want to miss a minute of this year&#39\;s 14th Annual Chicago Folk &amp\; Roots Festival!<br />\n<br />\nSaturday&#39\;s Main Stage highlights include quintessential Texas blues rocker Delbert McClinton\, Louisiana&#39\;s favorite Cajun sons Lost Bayou Ramblers\, Austin&#39\;s rockabilly queen Rosie Flores\, and New Orleans brass band sensation Glen David Andrews. Sunday night finds us swaying to the sounds of Tuareg guitar great Bombino\, grooving to Congolese rumba-meets-hip hop-soul with Baloji\, and finishing the Fest on our feet with the sounds of salsa and Latin jazz with Maraca!<br />\n<br />\n
LOCATION:Welles Park
UID:e.697.1046
SEQUENCE:3
DTSTAMP:20260420T125137Z
URL:http://lincolnsquareravenswood.smartcms.site/events/details/chicago-folk-roots-festival-1046
END:VEVENT

END:VCALENDAR
