BEGIN:VCALENDAR
VERSION:2.0
PRODID:-//ChamberMaster//Event Calendar 2.0//EN
METHOD:PUBLISH
X-PUBLISHED-TTL:P3D
REFRESH-INTERVAL:P3D
CALSCALE:GREGORIAN
BEGIN:VEVENT
DTSTART:20110627T120000Z
DTEND:20110627T190000Z
X-MICROSOFT-CDO-ALLDAYEVENT:FALSE
SUMMARY:Chicago Police Department: District 19 Blood Drive
DESCRIPTION:Please help your local community by donating blood at the Chicago Police Department District 19 Blood Drive.\n\n\n\nTo Schedule your appointment please contact Sgt. Karen Lemon at 312.744.5574.\n\n\n\nAppointments recommended.  Walk-Ins Welcome!\n\n\n\nPrepare for your donation.  Eat Well.  Stay Hydrated.  Bring ID.
X-ALT-DESC;FMTTYPE=text/html:Please help your local community by donating blood at the Chicago Police Department District 19 Blood Drive.<br />\n<br />\nTo Schedule your appointment please contact Sgt. Karen Lemon at 312.744.5574.<br />\n<br />\nAppointments recommended.&nbsp\; Walk-Ins Welcome!<br />\n<br />\n<em>Prepare for your donation.&nbsp\; Eat Well.&nbsp\; Stay Hydrated.&nbsp\; Bring ID.</em>
LOCATION:Chicago Police Department District 19 Auditorium- Main Floor
UID:e.697.1057
SEQUENCE:3
DTSTAMP:20260420T142343Z
URL:http://lincolnsquareravenswood.smartcms.site/events/details/chicago-police-department-district-19-blood-drive-1057
END:VEVENT

END:VCALENDAR
