BEGIN:VCALENDAR
VERSION:2.0
PRODID:-//ChamberMaster//Event Calendar 2.0//EN
METHOD:PUBLISH
X-PUBLISHED-TTL:P3D
REFRESH-INTERVAL:P3D
CALSCALE:GREGORIAN
BEGIN:VEVENT
DTSTART:20110610T223000Z
DTEND:20110611T003000Z
X-MICROSOFT-CDO-ALLDAYEVENT:FALSE
SUMMARY:Chicago's Architecture Community Debuts a Special Event
DESCRIPTION:Event:  The debut of the "Small Firm/Small Project Awards Reception"   a celebration of the exceptional work being produced by Chicago's small architecture firms\n\n	\n\n	Description:  Chicago is well known for its architectural treasures and its esteemed architecture community.  This special awards ceremony and reception will focus the spotlight on the work of our city's many talented professionals working at small firms and on small projects.  A gallery of all entries will be on display at the reception\, where winners will be announced.  In addition\, architects who specialize in residential projects will be on hand to answer homeowners' questions about working with an architect. \n\n	\n\n	Who:  This event is presented by the Small Practitioners Group of the Chicago chapter of the American Institute of Architects (AIA Chicago).  Founded in 1869\, AIA Chicago represents nearly 3\,000 licensed architects\, architectural interns and allied professionals in Illinois. Event sponsors include Architectural Artifacts\, Inc.\, PAC-CLAD Petersen Aluminum and Marvin Windows and Doors. \n\n	\n\n	Architectural Artifacts\, Inc. will offer attendees a 25 percent discount on the purchase of a single item during the event.
X-ALT-DESC;FMTTYPE=text/html:<p>\n	<br />\n	<span style="font-family: tahoma"><span style="font-size: 12px"><strong><strong>Event:&nbsp\; </strong></strong>The debut of the &ldquo\;Small Firm/Small Project Awards Reception&rdquo\; &ndash\; a celebration of the exceptional work being produced by Chicago&rsquo\;s small architecture firms<br />\n	<br />\n	<strong>Description:&nbsp\; </strong>Chicago is well known for its architectural treasures and its esteemed architecture community.&nbsp\; This special awards ceremony and reception will focus the spotlight on the work of our city&rsquo\;s many talented professionals working at small firms and on small projects.&nbsp\; A gallery of all entries will be on display at the reception\, where winners will be announced.&nbsp\; In addition\, architects who specialize in residential projects will be on hand to answer homeowners&rsquo\; questions about working with an architect.&nbsp\;<br />\n	<br />\n	<strong>Who:&nbsp\; </strong>This event is presented by the Small Practitioners Group of the Chicago chapter of the American Institute of Architects (AIA Chicago).&nbsp\; Founded in 1869\, AIA Chicago represents nearly 3\,000 licensed architects\, architectural interns and allied professionals in Illinois.&nbsp\;Event sponsors include Architectural Artifacts\, Inc.\, PAC-CLAD Petersen Aluminum and Marvin Windows and Doors.&nbsp\;<br />\n	<br />\n	<span style="background: yellow">Architectural Artifacts\, Inc. will offer attendees a 25 percent discount on the purchase of a single item during the event.</span>&nbsp\;&nbsp\;&nbsp\;<br />\n	&nbsp\;</span></span></p>\n
LOCATION:Architectural Artifacts 4325 North Ravenswood Avenue Chicago\, IL
UID:e.697.898
SEQUENCE:3
DTSTAMP:20260420T142017Z
URL:http://lincolnsquareravenswood.smartcms.site/events/details/chicago-s-architecture-community-debuts-a-special-event-898
END:VEVENT

END:VCALENDAR
