BEGIN:VCALENDAR
VERSION:2.0
PRODID:-//ChamberMaster//Event Calendar 2.0//EN
METHOD:PUBLISH
X-PUBLISHED-TTL:P3D
REFRESH-INTERVAL:P3D
CALSCALE:GREGORIAN
BEGIN:VEVENT
DTSTART:20100311T000000Z
DTEND:20100311T010000Z
X-MICROSOFT-CDO-ALLDAYEVENT:FALSE
SUMMARY:Childbirth Options: FAQs
DESCRIPTION:Are you interested in learning about different birthing options or alternative methods of Childbirth? What is a Doula or what is the difference between a doula and a midwife? How do you pick a practitioner that is right for you? How much does it cost? Should you hire a Doula if you are planing on getting an epidural? Stop by Bellybum and meet with Abigail Lynn\, Birth and Post Partum Doula and Certified Pre and Peri-natal Massage therapist. She will answer any questions you may have and help you navigate the myriad choices that face you as expectant parents.
X-ALT-DESC;FMTTYPE=text/html:Are you interested in learning about different birthing options or alternative methods of Childbirth? What is a Doula or what is the difference between a doula and a midwife? How do you pick a practitioner that is right for you? How much does it cost? Should you hire a Doula if you are planing on getting an epidural? Stop by Bellybum and meet with Abigail Lynn\, Birth and Post Partum Doula and Certified Pre and Peri-natal Massage therapist. She will answer any questions you may have and help you navigate the myriad choices that face you as expectant parents.
LOCATION:Bellybum Boutique
UID:e.697.280
SEQUENCE:3
DTSTAMP:20260421T154401Z
URL:http://lincolnsquareravenswood.smartcms.site/events/details/childbirth-options-faqs-280
END:VEVENT

END:VCALENDAR
