BEGIN:VCALENDAR
VERSION:2.0
PRODID:-//ChamberMaster//Event Calendar 2.0//EN
METHOD:PUBLISH
X-PUBLISHED-TTL:P3D
REFRESH-INTERVAL:P3D
CALSCALE:GREGORIAN
BEGIN:VEVENT
DTSTART:20111224T230000Z
DTEND:20111225T040000Z
X-MICROSOFT-CDO-ALLDAYEVENT:FALSE
SUMMARY:Christmas Eve at LM
DESCRIPTION:Special Four-Course Menu for Christmas Eve.\n\n\n\nSunchoke soup\, parsley puree\, brioche\n\nGrilled shrimp\, Israeli couscous\, lardon\, orange zest\n\nBraised short rib\, salsify\, confit potato\, truffle jus\n\nApple tart\, frangipane\, cinnamon creme.\n\n\n\nSaturday\, December 24th\n\n5:00 pm - 10:00 pm\n\n$45 per person
X-ALT-DESC;FMTTYPE=text/html:Special Four-Course Menu for Christmas Eve.<br />\n<br />\nSunchoke soup\, parsley puree\, brioche<br />\nGrilled shrimp\, Israeli couscous\, lardon\, orange zest<br />\nBraised short rib\, salsify\, confit potato\, truffle jus<br />\nApple tart\, frangipane\, cinnamon creme.<br />\n<br />\nSaturday\, December 24th<br />\n5:00 pm - 10:00 pm<br />\n$45 per person
LOCATION:LM Restaurant\, 4539 N. Lincoln
UID:e.697.2445
SEQUENCE:3
DTSTAMP:20260420T045217Z
URL:http://lincolnsquareravenswood.smartcms.site/events/details/christmas-eve-at-lm-2445
END:VEVENT

END:VCALENDAR
