BEGIN:VCALENDAR
VERSION:2.0
PRODID:-//ChamberMaster//Event Calendar 2.0//EN
METHOD:PUBLISH
X-PUBLISHED-TTL:P3D
REFRESH-INTERVAL:P3D
CALSCALE:GREGORIAN
BEGIN:VEVENT
DTSTART:20111210T160000Z
DTEND:20111212T000000Z
X-MICROSOFT-CDO-ALLDAYEVENT:FALSE
SUMMARY:Christmas in the Country Craft Fair and Shopping
DESCRIPTION:A 37 year old tradition from Cedarburg\, Wisconsin CHRISTMAS IN THE COUNTRY comes to Chicago for one weekend only!  Craft Items and Holiday Gifts by local Wisconsin Artisans will be on display and for purchase.  Brought to you by Lincoln Square's new Farmers Garden Market.
X-ALT-DESC;FMTTYPE=text/html:<span style="font-size:14px\;"><span style="font-family:tahoma\;">A 37 year old tradition from Cedarburg\, Wisconsin <strong>CHRISTMAS IN THE COUNTRY </strong>comes to Chicago for one weekend only! &nbsp\;Craft Items and Holiday Gifts by local Wisconsin Artisans will be on display and for purchase. &nbsp\;Brought to you by Lincoln Square&#39\;s new Farmers Garden Market.&nbsp\;</span></span>
LOCATION:2232 W Lawrence
UID:e.697.2437
SEQUENCE:3
DTSTAMP:20260420T045536Z
URL:http://lincolnsquareravenswood.smartcms.site/events/details/christmas-in-the-country-craft-fair-and-shopping-2437
END:VEVENT

END:VCALENDAR
