BEGIN:VCALENDAR
VERSION:2.0
PRODID:-//ChamberMaster//Event Calendar 2.0//EN
METHOD:PUBLISH
X-PUBLISHED-TTL:P3D
REFRESH-INTERVAL:P3D
CALSCALE:GREGORIAN
BEGIN:VEVENT
DTSTART:20100429T133000Z
DTEND:20100429T143000Z
X-MICROSOFT-CDO-ALLDAYEVENT:FALSE
SUMMARY:City Signage Meeting
DESCRIPTION:City Signage Meeting If you weren't able to make it to our Membership Gathering to meet with representatives from the City of Chicago- you have another chance! Rosa Escareno-Deputy Commissioner-Dept. of Business Affairs & Consumer Protection will be joining us Thursday morning April 29th at 8:30am for a quick follow-up meeting. If you have unanswered questions about signs\, permits\, the amnesty sign program\, etc. please plan to attend. Please also email or call the office with questions you have so that we can be prepared ahead of time with answers. Please register online!
X-ALT-DESC;FMTTYPE=text/html:<div style="text-align: center"><strong>City Signage Meeting</strong></div><div style="text-align: center">&nbsp\;</div><div style="text-align: center"><span style="font-size: larger">If you weren&rsquo\;t able to make it to our Membership Gathering to meet with representatives from the City of Chicago- you have another chance!</span></div><div style="text-align: center"><span style="font-size: larger">&nbsp\;</span></div><div style="text-align: center"><span style="font-size: larger">Rosa Escareno-<span style="color: black">Deputy Commissioner-Dept. of Business Affairs &amp\; Consumer Protection</span> will be joining us Thursday morning April 29th at 8:30am for a quick follow-up meeting. If you have unanswered questions about signs\, permits\, the amnesty sign program\, etc. please plan to attend.</span></div><div style="text-align: center"><span style="font-size: larger">&nbsp\;</span></div><div style="text-align: center"><span style="font-size: larger">Please also email or call the office with questions you have so that we can be prepared ahead of time with answers.</span></div><div style="text-align: center">&nbsp\;</div><div style="text-align: center"><u><strong>Please register online!</strong></u></div><div>&nbsp\;</div>
LOCATION:Chicago Soccer4839 N. Western773-271-2255
UID:e.697.458
SEQUENCE:3
DTSTAMP:20260421T141454Z
URL:http://lincolnsquareravenswood.smartcms.site/events/details/city-signage-meeting-458
END:VEVENT

END:VCALENDAR
