BEGIN:VCALENDAR
VERSION:2.0
PRODID:-//ChamberMaster//Event Calendar 2.0//EN
METHOD:PUBLISH
X-PUBLISHED-TTL:P3D
REFRESH-INTERVAL:P3D
CALSCALE:GREGORIAN
BEGIN:VEVENT
DTSTART:20111209T010000Z
DTEND:20111209T030000Z
X-MICROSOFT-CDO-ALLDAYEVENT:FALSE
SUMMARY:Cocktails and Curls at Lather Chicago
DESCRIPTION:Do you have trouble styling your hair at home?  Have your questions answered by a professional stylist and have hands on instruction.  Bring your own blow dryer or curling iron and learn how to use it and get the best possible results! \n\n\n\nAlso featuring Heather from Here's the Rub Massage Therapy doing free chakra clearings.  Come explore the tangible\, energetic bridge between your mind\, body and spirit.\n\n\n\nCall Today to sign up!  773-878-5600.
X-ALT-DESC;FMTTYPE=text/html:Do you have trouble styling your hair at home?&nbsp\; Have your questions answered by a professional stylist and have hands on instruction.&nbsp\; Bring your own blow dryer or curling iron and learn how to use it and get the best possible results!&nbsp\;<br />\n<br />\nAlso featuring Heather from Here&#39\;s the Rub Massage Therapy doing free chakra clearings.&nbsp\; Come explore the tangible\, energetic bridge between your mind\, body and spirit.<br />\n<br />\nCall Today to sign up!&nbsp\; 773-878-5600.
LOCATION:Lather Chicago on Damen 4831 N Damen Ave Chicago IL 60625
UID:e.697.2235
SEQUENCE:3
DTSTAMP:20260420T045247Z
URL:http://lincolnsquareravenswood.smartcms.site/events/details/cocktails-and-curlst-at-lather-chicago-2235
END:VEVENT

END:VCALENDAR
