BEGIN:VCALENDAR
VERSION:2.0
PRODID:-//ChamberMaster//Event Calendar 2.0//EN
METHOD:PUBLISH
X-PUBLISHED-TTL:P3D
REFRESH-INTERVAL:P3D
CALSCALE:GREGORIAN
BEGIN:VEVENT
DTSTART:20110217T150000Z
DTEND:20110217T160000Z
X-MICROSOFT-CDO-ALLDAYEVENT:FALSE
SUMMARY:Coffee with the Lincoln Square Chamber
DESCRIPTION:Meet with Lincoln Square Chamber Board of Directors and Staff to learn how we can partner with you and your business in 2011.
X-ALT-DESC;FMTTYPE=text/html:&nbsp\;<span style="language: en-us">Meet with Lincoln Square Chamber Board of Directors and Staff to learn how we can partner with you and your business in 2011.&nbsp\;</span><br />\n&nbsp\;&nbsp\;<br />\n
LOCATION:The Perfect Cup 4700 N Damen
UID:e.697.754
SEQUENCE:3
DTSTAMP:20260420T204335Z
URL:http://lincolnsquareravenswood.smartcms.site/events/details/coffe-with-the-lincoln-square-chamber-754
END:VEVENT

END:VCALENDAR
