BEGIN:VCALENDAR
VERSION:2.0
PRODID:-//ChamberMaster//Event Calendar 2.0//EN
METHOD:PUBLISH
X-PUBLISHED-TTL:P3D
REFRESH-INTERVAL:P3D
CALSCALE:GREGORIAN
BEGIN:VEVENT
DTSTART:20120419T220000Z
DTEND:20120420T010000Z
X-MICROSOFT-CDO-ALLDAYEVENT:FALSE
SUMMARY:Community Garden Night
DESCRIPTION:An informal night of community garden information.  Representatives from Bill McBride Prairie Garden\, The Peterson Garden Project\, and The Waters School Garden will be here for people to learn more about the community gardening options in the area. Earth Day-inspired snacks will be provided.  Hope to see you there!
X-ALT-DESC;FMTTYPE=text/html:An informal night of community garden information.&nbsp\; Representatives from Bill McBride Prairie Garden\, The Peterson Garden Project\, and The Waters School Garden&nbsp\;will be here for people to learn more about the community gardening options in the area. Earth Day-inspired snacks will be provided.&nbsp\; Hope to see you there!<br />\n<span _fck_bookmark="1" style="display: none">&nbsp\;</span>
LOCATION:Lillstreet Art Center 4401 N. Ravenswood
UID:e.697.2544
SEQUENCE:3
DTSTAMP:20260419T215953Z
URL:http://lincolnsquareravenswood.smartcms.site/events/details/community-garden-night-2544
END:VEVENT

END:VCALENDAR
