BEGIN:VCALENDAR
VERSION:2.0
PRODID:-//ChamberMaster//Event Calendar 2.0//EN
METHOD:PUBLISH
X-PUBLISHED-TTL:P3D
REFRESH-INTERVAL:P3D
CALSCALE:GREGORIAN
BEGIN:VEVENT
DTSTART:20111110T003000Z
DTEND:20111110T013000Z
X-MICROSOFT-CDO-ALLDAYEVENT:FALSE
SUMMARY:Court Advocacy Training Seminar
DESCRIPTION:COURT ADVOCACY TRAINING SEMINAR\n\n	Learn How to Become An Effective Court Advocate\n\n	\n\n	 \n\n	PRESENTED BY\n\n	ANITA ALVAREZ\n\n	Cook County State's Attorney's\n\n	COMMUNITY JUSTICE CENTER\n\n	\n\n	WEDNESDAY\, NOVEMBER 9\, 2011\n\n	6:30 P.M.-7:30 P.M.\n\n	\n\n	CHICAGO POLICE DEPARTMENT\n\n	23RD DISTRICT COMMUNITY ROOM\n\n	850 W. ADDISON\n\n	CHICAGO\, IL\n\n	\n\n	Light refreshments will be served\n\n	Please R.S.V.P. by November 7th to\n\n	773-334-4066 or Lori.trier@cookcountyil.gov
X-ALT-DESC;FMTTYPE=text/html:<p style="text-align: center">\n	<b><i><font face="TimesNewRomanPS-BoldItalicMT" size="6"><font face="TimesNewRomanPS-BoldItalicMT" size="6">COURT ADVOCACY TRAINING SEMINAR</font></font></i></b></p>\n<p style="text-align: center">\n	<i><font face="TimesNewRomanPS-ItalicMT" size="5"><font face="TimesNewRomanPS-ItalicMT" size="5">Learn How to Become An Effective Court Advocate</font></font></i><br />\n	<br />\n	&nbsp\;</p>\n<p style="text-align: center">\n	<i><font face="TimesNewRomanPS-ItalicMT" size="5"><font face="TimesNewRomanPS-ItalicMT" size="5"><font face="Times New Roman" size="4"><font face="Times New Roman" size="4">PRESENTED BY</font></font></font></font></i></p>\n<p style="text-align: center">\n	<i><font face="TimesNewRomanPS-ItalicMT" size="5"><font face="TimesNewRomanPS-ItalicMT" size="5"><font face="Times New Roman" size="5"><font face="Times New Roman" size="5">ANITA ALVAREZ</font></font></font></font></i><br />\n	<i><font face="TimesNewRomanPS-ItalicMT" size="5"><font face="TimesNewRomanPS-ItalicMT" size="5"><font face="Times New Roman" size="5"><font face="Times New Roman" size="5">Cook County State</font></font><font face="Times New Roman" size="5"><font face="Times New Roman" size="5">&rsquo\;</font></font><font face="Times New Roman" size="5"><font face="Times New Roman" size="5">s Attorney</font></font><font face="Times New Roman" size="5"><font face="Times New Roman" size="5">&rsquo\;</font></font><font face="Times New Roman" size="5"><font face="Times New Roman" size="5">s</font></font></font></font></i><br />\n	<i><font face="TimesNewRomanPS-ItalicMT" size="5"><font face="TimesNewRomanPS-ItalicMT" size="5"><font face="Times New Roman" size="5"><font face="Times New Roman" size="5">COMMUNITY JUSTICE CENTER</font></font></font></font></i></p>\n<p style="text-align: center">\n	<br />\n	<i><font face="TimesNewRomanPS-ItalicMT" size="5"><font face="TimesNewRomanPS-ItalicMT" size="5"><i><font face="TimesNewRomanPS-ItalicMT" size="5"><font face="TimesNewRomanPS-ItalicMT" size="5">WEDNESDAY\, NOVEMBER 9\, 2011</font></font></i></font></font></i><br />\n	<i><font face="TimesNewRomanPS-ItalicMT" size="5"><font face="TimesNewRomanPS-ItalicMT" size="5"><i><font face="TimesNewRomanPS-ItalicMT" size="5"><font face="TimesNewRomanPS-ItalicMT" size="5">6:30 P.M.-7:30 P.M.</font></font></i></font></font></i></p>\n<p style="text-align: center">\n	<br />\n	<i><font face="TimesNewRomanPS-ItalicMT" size="5"><font face="TimesNewRomanPS-ItalicMT" size="5"><i><font face="TimesNewRomanPS-ItalicMT" size="5"><font face="TimesNewRomanPS-ItalicMT" size="5">CHICAGO POLICE DEPARTMENT</font></font></i></font></font></i><br />\n	<i><font face="TimesNewRomanPS-ItalicMT" size="5"><font face="TimesNewRomanPS-ItalicMT" size="5"><i><font face="TimesNewRomanPS-ItalicMT" size="5"><font face="TimesNewRomanPS-ItalicMT" size="5">23RD DISTRICT COMMUNITY ROOM</font></font></i></font></font></i><br />\n	<i><font face="TimesNewRomanPS-ItalicMT" size="5"><font face="TimesNewRomanPS-ItalicMT" size="5"><i><font face="TimesNewRomanPS-ItalicMT" size="5"><font face="TimesNewRomanPS-ItalicMT" size="5">850 W. ADDISON</font></font></i></font></font></i><br />\n	<i><font face="TimesNewRomanPS-ItalicMT" size="5"><font face="TimesNewRomanPS-ItalicMT" size="5"><i><font face="TimesNewRomanPS-ItalicMT" size="5"><font face="TimesNewRomanPS-ItalicMT" size="5">CHICAGO\, IL</font></font></i></font></font></i></p>\n<p style="text-align: center">\n	<br />\n	<i><font face="TimesNewRomanPS-ItalicMT" size="5"><font face="TimesNewRomanPS-ItalicMT" size="5"><i><font face="TimesNewRomanPS-ItalicMT">Light refreshments will be served</font></i></font></font></i><br />\n	<i><font face="TimesNewRomanPS-ItalicMT" size="5"><font face="TimesNewRomanPS-ItalicMT" size="5"><i><font face="TimesNewRomanPS-ItalicMT">Please R.S.V.P. by November 7th to</font></i></font></font></i><br />\n	<i><font face="TimesNewRomanPS-ItalicMT" size="5"><font face="TimesNewRomanPS-ItalicMT" size="5"><i><font face="TimesNewRomanPS-ItalicMT">773-334-4066 or Lori.trier@cookcountyil.gov</font></i></font></font></i></p>\n
LOCATION:CHICAGO POLICE DEPARTMENT 23RD DISTRICT COMMUNITY ROOM 850 W. ADDISON CHICAGO\, IL
UID:e.697.2167
SEQUENCE:3
DTSTAMP:20260420T063550Z
URL:http://lincolnsquareravenswood.smartcms.site/events/details/court-advocacy-training-seminar-2167
END:VEVENT

END:VCALENDAR
