BEGIN:VCALENDAR
VERSION:2.0
PRODID:-//ChamberMaster//Event Calendar 2.0//EN
METHOD:PUBLISH
X-PUBLISHED-TTL:P3D
REFRESH-INTERVAL:P3D
CALSCALE:GREGORIAN
BEGIN:VEVENT
DTSTART:20120801T003000Z
DTEND:20120801T020000Z
X-MICROSOFT-CDO-ALLDAYEVENT:FALSE
SUMMARY:Creating Optimal Health for You and Your Child at Ravenswood Health Center
DESCRIPTION:Ravenswood Health Center celebrates National Parents Day!  Please join us for an informative evening July 31st\, 2012 with Dr. Jason Fennema as he presents "Creating Optimal Wellness for You and your Child".  \n\n	Dr. Jason is the leading chiropractor at Ravenswood Health Center as well as a parent himself.  Join us to learn more about promoting a healthy lifestyle within your family.  Complimentary parking. \n\n	\n\n	We are also collecting school supplies to benefit local families in need through the Common Pantry of Chicago.  Please consider making a donation of school supplies when you come to RHC.
X-ALT-DESC;FMTTYPE=text/html:<p style="text-align: center\;">\n	<strong><span style="font-size:14px\;"><span style="background-color:#00ffff\;">Ravenswood Health Center celebrates National Parents Day!&nbsp\; Please join us for an informative evening July 31st\, 2012 with Dr. Jason Fennema as he presents &quot\;Creating Optimal Wellness for You and your Child&quot\;.&nbsp\; </span></span></strong></p>\n<p style="text-align: center\;">\n	<em><span style="font-size:12px\;">Dr. Jason is the leading chiropractor at Ravenswood Health Center as well as a parent himself.&nbsp\; Join us to learn more about promoting a healthy lifestyle within your family.&nbsp\; Complimentary parking.&nbsp\;<br />\n	<br />\n	We are also collecting school supplies to benefit local families in need through the Common Pantry of Chicago.&nbsp\; Please consider making a donation of school supplies when you come to RHC.&nbsp\; </span></em></p>\n
LOCATION:Ravenswood Health Center\, 4256 North Ravenswood\, Free Parking right in front
UID:e.697.3598
SEQUENCE:3
DTSTAMP:20260419T183536Z
URL:http://lincolnsquareravenswood.smartcms.site/events/details/creating-optimal-health-for-you-and-your-child-at-ravenswood-health-center-3598
END:VEVENT

END:VCALENDAR
