BEGIN:VCALENDAR
VERSION:2.0
PRODID:-//ChamberMaster//Event Calendar 2.0//EN
METHOD:PUBLISH
X-PUBLISHED-TTL:P3D
REFRESH-INTERVAL:P3D
CALSCALE:GREGORIAN
BEGIN:VEVENT
DTSTART:20111119T170000Z
DTEND:20111119T183000Z
X-MICROSOFT-CDO-ALLDAYEVENT:FALSE
SUMMARY:Credit Score Seminar
DESCRIPTION:Join Wintrust Mortgage Professionals\, Marc Kramer (NMLS #755863) and Marty Hill (NMLS #222650) for a discussion about your credit score and how it can affect your future.  A light lunch will be served.  Seating is Limited.
X-ALT-DESC;FMTTYPE=text/html:Join Wintrust Mortgage Professionals\, Marc Kramer (NMLS #755863) and Marty Hill (NMLS #222650) for a discussion about your credit score and how it can affect your future.&nbsp\; A light lunch will be served.&nbsp\; Seating is Limited.
LOCATION:Lincoln Park Community Bank 1946 W Irving Park Road & Rogers Park Community Bank 7555 N Western Avenue
UID:e.697.2210
SEQUENCE:3
DTSTAMP:20260420T063428Z
URL:http://lincolnsquareravenswood.smartcms.site/events/details/credit-score-seminar-2210
END:VEVENT

END:VCALENDAR
