BEGIN:VCALENDAR
VERSION:2.0
PRODID:-//ChamberMaster//Event Calendar 2.0//EN
METHOD:PUBLISH
X-PUBLISHED-TTL:P3D
REFRESH-INTERVAL:P3D
CALSCALE:GREGORIAN
BEGIN:VEVENT
DTSTART:20100309T160000Z
DTEND:20100309T164500Z
X-MICROSOFT-CDO-ALLDAYEVENT:FALSE
SUMMARY:Dance With Me\, Toddler! (4 Sessions)
DESCRIPTION:Have a ton of fun with your toddler & work off those extra post holiday pounds while you're at it! Learn world dances and give your toddler (ages 1-3) great exposure to world music and movement. This is a great way to start creating an active lifestyle for your family\, and is fun to boot! This class isn't just for moms and papas and caregivers are welcome as well.  You and your toddler will have the opportunity to explore the isolations inherent to dance\, creating muscle tone and awareness.  Surrounded by like-minded parents\, your toddler will have the freedom to follow the ebb and flow of their interest while you get to learn to move your body. Toddler-friendly props will be introduced throughout the series.  There is no maximum age for the adult\, but the tot should be between 1-3!
X-ALT-DESC;FMTTYPE=text/html:Have a ton of fun with your toddler & work off those extra post holiday pounds while you're at it! Learn world dances and give your toddler (ages 1-3) great exposure to world music and movement. This is a great way to start creating an active lifestyle for your family\, and is fun to boot! This class isn't just for moms and papas and caregivers are welcome as well.  You and your toddler will have the opportunity to explore the isolations inherent to dance\, creating muscle tone and awareness.  Surrounded by like-minded parents\, your toddler will have the freedom to follow the ebb and flow of their interest while you get to learn to move your body. Toddler-friendly props will be introduced throughout the series.  There is no maximum age for the adult\, but the tot should be between 1-3!
LOCATION:Bellybum Boutique
UID:e.697.291
SEQUENCE:3
DTSTAMP:20260421T154444Z
URL:http://lincolnsquareravenswood.smartcms.site/events/details/dance-with-me-toddler-4-sessions-291
END:VEVENT

END:VCALENDAR
