BEGIN:VCALENDAR
VERSION:2.0
PRODID:-//ChamberMaster//Event Calendar 2.0//EN
METHOD:PUBLISH
X-PUBLISHED-TTL:P3D
REFRESH-INTERVAL:P3D
CALSCALE:GREGORIAN
BEGIN:VEVENT
DTSTART:20111105T153000Z
DTEND:20111105T170000Z
X-MICROSOFT-CDO-ALLDAYEVENT:FALSE
SUMMARY:DANK Haus Annual Meeting & Election
DESCRIPTION:Call to Order\n\n  Approve prior year Minutes\n\n  Annual Report\n\n  Finance Report\n\n  Election\n\n  Awards Program\n\n  Tribute to Departing Directors\n\n  Announce Election Results\n\n  Adjourn
X-ALT-DESC;FMTTYPE=text/html:&bull\; Call to Order<br />\n&bull\; Approve prior year Minutes<br />\n&bull\; Annual Report<br />\n&bull\; Finance Report<br />\n&bull\; Election<br />\n&bull\; Awards Program<br />\n&bull\; Tribute to Departing Directors<br />\n&bull\; Announce Election Results<br />\n&bull\; Adjourn<br />\n
LOCATION:4740 N Western Ave
UID:e.697.2177
SEQUENCE:3
DTSTAMP:20260420T063545Z
URL:http://lincolnsquareravenswood.smartcms.site/events/details/dank-haus-annual-meeting-election-2177
END:VEVENT

END:VCALENDAR
