BEGIN:VCALENDAR
VERSION:2.0
PRODID:-//ChamberMaster//Event Calendar 2.0//EN
METHOD:PUBLISH
X-PUBLISHED-TTL:P3D
REFRESH-INTERVAL:P3D
CALSCALE:GREGORIAN
BEGIN:VEVENT
DTSTART:20120101T020000Z
DTEND:20120101T080000Z
X-MICROSOFT-CDO-ALLDAYEVENT:FALSE
SUMMARY:DANK Haus New Year's Eve powered by the Polkaholics
DESCRIPTION:Willkommen 2012 at the DANK Haus with a white hot blaze of sequins and accordions known as The Polkaholics.\n\n\n\nBalloons fall from the gilded ceiling\, partygoers warm up with a traditional feuerzangenbowle and learn their future at the Bleigiessen display. (See below for more on cultural enrichment)\n\n\n\nDoors open at 8:00pm\n\nEvent closes 2:00 am\n\nMust be 21 and over\n\n$9.99 Advance tickets available at www.brownpapertickets.com\n\n\n\nEach entrance includes raffle ticket to win an Epiphone guitar\n\n\n\n\n\nFood & Beverage:\n\nBBK or Kostritzer beer\n\n\n\nLiter $11\n\n1/2 Liter $6\n\nWine $5\n\nChampagne (German Sekt) - $10-$20 per bottle\n\nWater/Pop - $1\n\nPretzel - $2\n\nLandjaeger - $3 ( spicy dried beef sausage - a favorite of hikers)\n\n\n\nFREE Parking at MB Financial Lot\, Western & Gunnison\n\n\n\nFeuerzangenbowle\, wherein a sugar cone is soaked in high proof rum and lit on fire over a spiced wine.\n\n\n\nThe sugar drips into the wine. While the cone burns\, the party gathers and warm converstation enues.\n\n\n\nAlso will be a Bleigiessen demonstration. Bleigiessen is the melting of lead or for safety sake\, wax and dropping it into a cold bowl of water. you then interpret the resulting shape to learn your fortune for the New Year\n\n\n\n"The same procedure as every year!"
X-ALT-DESC;FMTTYPE=text/html:Willkommen 2012 at the DANK Haus with a white hot blaze of sequins and accordions known as The Polkaholics.<br />\n<br />\nBalloons fall from the gilded ceiling\, partygoers warm up with a traditional feuerzangenbowle and learn their future at the Bleigiessen display. (See below for more on cultural enrichment)<br />\n<br />\nDoors open at 8:00pm<br />\nEvent closes 2:00 am<br />\nMust be 21 and over<br />\n$9.99 Advance tickets available at www.brownpapertickets.com<br />\n<br />\nEach entrance includes raffle ticket to win an Epiphone guitar<br />\n<br />\n<br />\nFood &amp\; Beverage:<br />\nBBK or Kostritzer beer<br />\n<br />\nLiter $11<br />\n1/2 Liter $6<br />\nWine $5<br />\nChampagne (German Sekt) - $10-$20 per bottle<br />\nWater/Pop - $1<br />\nPretzel - $2<br />\nLandjaeger - $3 ( spicy dried beef sausage - a favorite of hikers)<br />\n<br />\nFREE Parking at MB Financial Lot\, Western &amp\; Gunnison<br />\n<br />\nFeuerzangenbowle\, wherein a sugar cone is soaked in high proof rum and lit on fire over a spiced wine.<br />\n<br />\nThe sugar drips into the wine. While the cone burns\, the party gathers and warm converstation enues.<br />\n<br />\nAlso will be a Bleigiessen demonstration. Bleigiessen is the melting of lead or for safety sake\, wax and dropping it into a cold bowl of water. you then interpret the resulting shape to learn your fortune for the New Year<br />\n<br />\n&quot\;The same procedure as every year!&quot\;
LOCATION:4740 N Western Ave
UID:e.697.2196
SEQUENCE:3
DTSTAMP:20260420T032324Z
URL:http://lincolnsquareravenswood.smartcms.site/events/details/dank-haus-new-year-s-eve-powered-by-the-polkaholics-2196
END:VEVENT

END:VCALENDAR
